BEGIN:VCALENDAR
VERSION:2.0
PRODID:-//WordPress - ECPv6.15.20//NONSGML v1.0//EN
CALSCALE:GREGORIAN
METHOD:PUBLISH
X-WR-CALNAME:WordPress
X-ORIGINAL-URL:https://kopfsache-magazin.de
X-WR-CALDESC:Veranstaltungen für WordPress
REFRESH-INTERVAL;VALUE=DURATION:PT1H
X-Robots-Tag:noindex
X-PUBLISHED-TTL:PT1H
BEGIN:VTIMEZONE
TZID:UTC
BEGIN:STANDARD
TZOFFSETFROM:+0000
TZOFFSETTO:+0000
TZNAME:UTC
DTSTART:20240101T000000
END:STANDARD
END:VTIMEZONE
BEGIN:VEVENT
DTSTART;VALUE=DATE:20250410
DTEND;VALUE=DATE:20250412
DTSTAMP:20260420T183546
CREATED:20250305T094550Z
LAST-MODIFIED:20250305T094550Z
UID:36284-1744243200-1744415999@kopfsache-magazin.de
SUMMARY:16. Nachsorgekongress
DESCRIPTION:Unter dem Titel: „Ich wollte es schaffen und keiner wollte mich scheitern lassen.“ Bestmögliche Teilhabe – auch für Menschen mit Schädelhirnverletzung wird AG Teilhabe\, Rehabilitation\, Nachsorge und Integration nach Schädelhirnverletzung vom 10. bis 11. April 2025 den 16. Nachsorgekongress im Tagungszentrum der DGUV in Dresden veranstalten. \nDie AG verspricht bereits ein spannendes Programm. Es wird eine gute Mischung von alt bewährten Formaten und neuen Elementen geben. Die Veranstaltung wird begleitet von Graphic Recording. Am 11. April werden wir zudem den Förderpreis und das Doktoranden-Stipendium der ZNS-Stiftung verliehen.
URL:https://kopfsache-magazin.de/termin/16-nachsorgekongress/
LOCATION:DGUV Congress\, Königsbrücker Landstraße 2\, Dresden\, 01109\, Germany
ATTACH;FMTTYPE=image/jpeg:https://kopfsache-magazin.de/wp-content/uploads/2025/03/DSC_3620-scaled.jpg
ORGANIZER;CN="ZNS %E2%80%93 Hannelore Kohl Stiftung":MAILTO:info@hannelore-kohl-stiftung.de
END:VEVENT
END:VCALENDAR