BEGIN:VCALENDAR
VERSION:2.0
PRODID:-//WordPress - ECPv6.15.20//NONSGML v1.0//EN
CALSCALE:GREGORIAN
METHOD:PUBLISH
X-ORIGINAL-URL:https://kopfsache-magazin.de
X-WR-CALDESC:Veranstaltungen für WordPress
REFRESH-INTERVAL;VALUE=DURATION:PT1H
X-Robots-Tag:noindex
X-PUBLISHED-TTL:PT1H
BEGIN:VTIMEZONE
TZID:UTC
BEGIN:STANDARD
TZOFFSETFROM:+0000
TZOFFSETTO:+0000
TZNAME:UTC
DTSTART:20240101T000000
END:STANDARD
END:VTIMEZONE
BEGIN:VEVENT
DTSTART;TZID=UTC:20250506T190000
DTEND;TZID=UTC:20250506T200000
DTSTAMP:20260419T145700
CREATED:20250416T111051Z
LAST-MODIFIED:20250416T111051Z
UID:36483-1746558000-1746561600@kopfsache-magazin.de
SUMMARY:Wesensveränderungen bei Menschen mit erworbenen  Hirnschädigungen (MeH)
DESCRIPTION:Das Thema „Wesensveränderungen bei Menschen mit erworbenen Hirnschädigungen (MeH)“ ist sehr komplex. Ein wichtiges Thema für Betroffene und Angehörige und viele benötigen Hilfe. \nThema: Wesensveränderungen bei Menschen mit erworbenen Hirnschädigungen (MeH) und wie gehen wir als Angehörige damit um. „Gemeinsam wollen wir uns austauschen und Fragen zusammentragen\, die wir mit NeuroPsychologen und Neurologen diskutieren wollen.“ \nInteressierte sind herzlich eingeladen. „Trauen Sie sich und nehmen Sie mit mir Kontakt auf\, ich bin für Sie da. Ich freue mich auf Sie und Sie dürfen mich auch gerne anrufen.“ \nAnmeldungen bitte an: \nIngrid Zoeger\, Vorstandsmitglied\nTelefon: 0171/7235144\, email: i.zoeger@shv-forum-gehirn.de
URL:https://kopfsache-magazin.de/termin/wesensveraenderungen-bei-menschen-mit-erworbenen-hirnschaedigungen-meh/
LOCATION:ZOOM (online)
ATTACH;FMTTYPE=image/jpeg:https://kopfsache-magazin.de/wp-content/uploads/2025/04/Newsletter-Bild-2.jpg
ORGANIZER;CN="SHV Forum Gehirn":MAILTO:info@shv-forum-gehirn.de
END:VEVENT
END:VCALENDAR