BEGIN:VCALENDAR
VERSION:2.0
PRODID:-//WordPress - ECPv6.15.20//NONSGML v1.0//EN
CALSCALE:GREGORIAN
METHOD:PUBLISH
X-ORIGINAL-URL:https://kopfsache-magazin.de
X-WR-CALDESC:Veranstaltungen für WordPress
REFRESH-INTERVAL;VALUE=DURATION:PT1H
X-Robots-Tag:noindex
X-PUBLISHED-TTL:PT1H
BEGIN:VTIMEZONE
TZID:UTC
BEGIN:STANDARD
TZOFFSETFROM:+0000
TZOFFSETTO:+0000
TZNAME:UTC
DTSTART:20240101T000000
END:STANDARD
END:VTIMEZONE
BEGIN:VEVENT
DTSTART;TZID=UTC:20250517T100000
DTEND;TZID=UTC:20250517T160000
DTSTAMP:20260419T165939
CREATED:20250409T095553Z
LAST-MODIFIED:20250409T095553Z
UID:36432-1747476000-1747497600@kopfsache-magazin.de
SUMMARY:Wissen vernetzen
DESCRIPTION:Thementag am 17.05.2025 – für An- und Zugehörige von erwachsenen Menschen mit einer erworbenen Hirnschädigung \nDurch Schicksalsschläge wie Unfälle\, Schlaganfälle oder andere neurologische Erkrankungen erleben Betroffene und ihre sozialen Systeme oft einen tiefen Einschnitt in ihr Leben. In diesem herausfordernden Prozess spielen An- und Zugehörige eine entscheidende Rolle\, erhalten jedoch im Gesundheitssystem häufig nicht die Aufmerksamkeit\, die sie verdienen. \nAn diesem Tag geht es im Schwerpunkt um das Thema Krankheitsverarbeitung. Die Referentin Barbara Krietemeyer\, Diplom Psychologin\, wird zwei Impulsvorträge halten. \nDer Prozess der Krankheitsverarbeitung \nNach einer erlittenen Hirnschädigung äußern alle erkrankten Personen den Wunsch  „wieder zu werden wie früher“. Im Verlauf der Auseinandersetzung mit der Erkrankung und den Folgen werden jedoch die Auswirkungen im Alltag sichtbar. Angehörige und Außenstehende nehmen vorhandene Einschränkungen dabei oft deutlicher wahr als die Betroffenen selbst. Im Vortrag geht es darum\, welche Schritte und Etappen im Prozess der Verarbeitung zu bewältigen sind. Von besonderer Bedeutung ist dabei die Frage\, wie eine angemessene Wahrnehmung der Krankheitsfolgen unterstützt werden kann und was den betroffenen Personen hilft\, wieder eine positive Lebensperspektive zu gewinnen. \nVeränderungen der Identität nach einer Hirnverletzung\n\nVerletzungen des Gehirns können das Selbst-Erleben einer Person deutlich verändern. Alle Erfahrungsbereiche\, die unsere Identität ausmachen\, können dabei durch die Erkrankung direkt und / oder indirekt betroffen sein. Im weiteren Verlauf der Krankheitsverarbeitung geht es für die Personen darum\, das Ereignis und die Folgen in ihr Leben und ihr Bild von sich zu integrieren. Es gilt\, das Leben quasi „neu zu finden“\, um wieder Zuversicht und Lebensqualität zu gewinnen. \nNeben Impulsvorträgen verschiedener Referenten und Referentinnen haben Sie die Möglichkeit zum Thema in Austausch zu kommen und Kontakte zu knüpfen. \nHier anmelden.
URL:https://kopfsache-magazin.de/termin/wissen-vernetzen/
LOCATION:Bielefeld-Bethel\, Bethelplatz 1\, Bielefeld\, Kleiner Saal\, Germany
ATTACH;FMTTYPE=image/jpeg:https://kopfsache-magazin.de/wp-content/uploads/2025/04/2b0e1adc-562b-41c9-a176-0048d12dbb7f-scaled.jpg
ORGANIZER;CN="Bildung & Beratung Bethel":MAILTO:katrin.krohne-klaus@bethel.de
END:VEVENT
END:VCALENDAR