BEGIN:VCALENDAR
VERSION:2.0
PRODID:-//WordPress - ECPv6.15.20//NONSGML v1.0//EN
CALSCALE:GREGORIAN
METHOD:PUBLISH
X-WR-CALNAME:WordPress
X-ORIGINAL-URL:https://kopfsache-magazin.de
X-WR-CALDESC:Veranstaltungen für WordPress
REFRESH-INTERVAL;VALUE=DURATION:PT1H
X-Robots-Tag:noindex
X-PUBLISHED-TTL:PT1H
BEGIN:VTIMEZONE
TZID:UTC
BEGIN:STANDARD
TZOFFSETFROM:+0000
TZOFFSETTO:+0000
TZNAME:UTC
DTSTART:20240101T000000
END:STANDARD
END:VTIMEZONE
BEGIN:VEVENT
DTSTART;VALUE=DATE:20250522
DTEND;VALUE=DATE:20250525
DTSTAMP:20260419T165816
CREATED:20250218T151900Z
LAST-MODIFIED:20250218T151900Z
UID:36200-1747872000-1748131199@kopfsache-magazin.de
SUMMARY:REHAB 2025
DESCRIPTION:Vom 22. bis 24. Mai 2025 wird sich auf dem barrierefreien Gelände der Messe Karlsruhe alles um Interaktion\, Innovation und Austausch drehen. Sowohl Privat- als auch Fachbesuchende aus den Bereichen Therapie\, Medizin\, Pflege sowie Reha- und Orthopädietechnik nutzen die Messe zum Austausch und Kennenlernen der neuesten technischen Hilfsmittel\, Assistenztechnologien und Mobilitätshilfen. 2023 präsentierten über 300 Ausstellende aus 17 Länder in drei Messehallen die neuesten Trends\, Therapieangebote und Innovationen der Branche.
URL:https://kopfsache-magazin.de/termin/rehab-2025/
LOCATION:Messe Karlsruhe\, Messeallee 1\, 76287 Rheinstetten\, Deutschland
ATTACH;FMTTYPE=image/jpeg:https://kopfsache-magazin.de/wp-content/uploads/2025/02/rehab_2023_messekarlsruhe_juergenroesner_201.jpg
ORGANIZER;CN="Karlsruher Messe- und Kongress GmbH":MAILTO:info@messe-karlsruhe.de
END:VEVENT
END:VCALENDAR