BEGIN:VCALENDAR
VERSION:2.0
PRODID:-//WordPress - ECPv6.15.20//NONSGML v1.0//EN
CALSCALE:GREGORIAN
METHOD:PUBLISH
X-WR-CALNAME:WordPress
X-ORIGINAL-URL:https://kopfsache-magazin.de
X-WR-CALDESC:Veranstaltungen für WordPress
REFRESH-INTERVAL;VALUE=DURATION:PT1H
X-Robots-Tag:noindex
X-PUBLISHED-TTL:PT1H
BEGIN:VTIMEZONE
TZID:UTC
BEGIN:STANDARD
TZOFFSETFROM:+0000
TZOFFSETTO:+0000
TZNAME:UTC
DTSTART:20240101T000000
END:STANDARD
END:VTIMEZONE
BEGIN:VEVENT
DTSTART;TZID=UTC:20250619T190000
DTEND;TZID=UTC:20250619T200000
DTSTAMP:20260419T182923
CREATED:20250416T104044Z
LAST-MODIFIED:20250416T104044Z
UID:36477-1750359600-1750363200@kopfsache-magazin.de
SUMMARY:Einladung zur Selbsthilfe  für Menschen mit erworbenen Hirnschädigungen und deren Angehörige
DESCRIPTION:„Ich möchte Sie recht herzlich zu einem Treffen von Betroffenen mit erworbenen Hirnschädigungen und deren Angehörige“. Wenn Sie Interesse an dem Kontakt zu anderen Betroffenen und Angehörigen haben\, dann melden Sie sich bitte per E-Mail an. \nIngrid Zoeger\, Vorstandsmitglied\nTelefon: 0171/7235144\, email: i.zoeger@shv-forum-gehirn.de
URL:https://kopfsache-magazin.de/termin/einladung-zur-selbsthilfe-fuer-menschen-mit-erworbenen-hirnschaedigungen-und-deren-angehoerige/
LOCATION:ZOOM (online)
ATTACH;FMTTYPE=image/jpeg:https://kopfsache-magazin.de/wp-content/uploads/2025/04/Newsletter-Bild-2.jpg
ORGANIZER;CN="SHV Forum Gehirn":MAILTO:info@shv-forum-gehirn.de
END:VEVENT
END:VCALENDAR