BEGIN:VCALENDAR
VERSION:2.0
PRODID:-//WordPress - ECPv6.15.20//NONSGML v1.0//EN
CALSCALE:GREGORIAN
METHOD:PUBLISH
X-ORIGINAL-URL:https://kopfsache-magazin.de
X-WR-CALDESC:Veranstaltungen für WordPress
REFRESH-INTERVAL;VALUE=DURATION:PT1H
X-Robots-Tag:noindex
X-PUBLISHED-TTL:PT1H
BEGIN:VTIMEZONE
TZID:UTC
BEGIN:STANDARD
TZOFFSETFROM:+0000
TZOFFSETTO:+0000
TZNAME:UTC
DTSTART:20240101T000000
END:STANDARD
END:VTIMEZONE
BEGIN:VEVENT
DTSTART;TZID=UTC:20250925T080000
DTEND;TZID=UTC:20250925T170000
DTSTAMP:20260420T032355
CREATED:20250521T092516Z
LAST-MODIFIED:20250521T092516Z
UID:36675-1758787200-1758819600@kopfsache-magazin.de
SUMMARY:„Ich will! Ich kann! Ich darf!“
DESCRIPTION:Erfolgreiche Teilhabe nach erfahrener Hirnschädigung ist kein Zufall\nDonnerstag\, 25. September 2025\nKreishaus Bergheim \nMenschen mit erfahrenen Hirnschädigung begegnen vielen Herausforderungen – medizinisch\, sozial\, persönlich und gesellschaftlich. Auf unserem Fachtag wollen wir gemeinsam mit Fachkräften\, Angehörigen und Betroffenen erarbeiten\, was gelingende Teilhabe möglich macht. \n„Bitte merken Sie sich den Termin bereits jetzt vor. Eine ausführliche Einladung mit Programm und Anmeldemöglichkeit folgt in Kürze.“
URL:https://kopfsache-magazin.de/termin/ich-will-ich-kann-ich-darf/
ATTACH;FMTTYPE=image/png:https://kopfsache-magazin.de/wp-content/uploads/2025/05/Bildschirmfoto-2025-05-21-um-11.24.38.png
END:VEVENT
END:VCALENDAR