BEGIN:VCALENDAR
VERSION:2.0
PRODID:-//WordPress - ECPv6.15.20//NONSGML v1.0//EN
CALSCALE:GREGORIAN
METHOD:PUBLISH
X-ORIGINAL-URL:https://kopfsache-magazin.de
X-WR-CALDESC:Veranstaltungen für WordPress
REFRESH-INTERVAL;VALUE=DURATION:PT1H
X-Robots-Tag:noindex
X-PUBLISHED-TTL:PT1H
BEGIN:VTIMEZONE
TZID:UTC
BEGIN:STANDARD
TZOFFSETFROM:+0000
TZOFFSETTO:+0000
TZNAME:UTC
DTSTART:20250101T000000
END:STANDARD
END:VTIMEZONE
BEGIN:VEVENT
DTSTART;TZID=UTC:20260709T080000
DTEND;TZID=UTC:20260709T170000
DTSTAMP:20260419T223353
CREATED:20260310T133455Z
LAST-MODIFIED:20260310T133455Z
UID:37435-1783584000-1783616400@kopfsache-magazin.de
SUMMARY:Digital dabei. Teil II
DESCRIPTION:Immer mehr läuft heute digital – doch gerade nach einem Schädelhirntrauma fühlt man sich bei Smartphone\, E-Mail & Co. oft unsicher. In diesem interaktiven Online-Seminar entdeckst Du Schritt für Schritt\, wie Du über das Internet mit anderen in Kontakt bleiben und neue Gemeinschaft erleben kannst. Ganz ohne technisches Vorwissen lernst Du in verständlicher Sprache die wichtigsten Anwendungen kennen. Zusammen üben wir z. B. das Versenden von Nachrichten und Sprachnachrichten\, probieren eine Videokonferenz aus und sprechen über Deine Fragen zur sicheren Nutzung. Erlebe\, wie viel Freude es machen kann\, online verbunden zu sein – in Deinem Tempo und mit viel gegenseitiger Unterstützung. \nDas erwartet Dich: \n\nEinfache Erklärungen zu E-Mails\, Chat und sozialen Netzwerken.\nPraktische Übungen mit Sprachnachrichten\, Chat und Videoanrufen.\nTipps für sichere und respektvolle Online-Kommunikation.\nVorstellung von Online-Gruppen speziell für Menschen mit SHT.\n\nJetzt anmelden! 
URL:https://kopfsache-magazin.de/termin/digital-dabei-teil-ii/
LOCATION:online
ATTACH;FMTTYPE=image/jpeg:https://kopfsache-magazin.de/wp-content/uploads/2026/03/woman-touching-smart-technology-holographic-interface-scaled.jpg
ORGANIZER;CN="ZNS Akademie":MAILTO:info@zns-akademie.de
END:VEVENT
END:VCALENDAR