BEGIN:VCALENDAR
VERSION:2.0
PRODID:-//WordPress - ECPv6.15.20//NONSGML v1.0//EN
CALSCALE:GREGORIAN
METHOD:PUBLISH
X-ORIGINAL-URL:https://kopfsache-magazin.de
X-WR-CALDESC:Veranstaltungen für WordPress
REFRESH-INTERVAL;VALUE=DURATION:PT1H
X-Robots-Tag:noindex
X-PUBLISHED-TTL:PT1H
BEGIN:VTIMEZONE
TZID:UTC
BEGIN:STANDARD
TZOFFSETFROM:+0000
TZOFFSETTO:+0000
TZNAME:UTC
DTSTART:20250101T000000
END:STANDARD
END:VTIMEZONE
BEGIN:VEVENT
DTSTART;TZID=UTC:20260421T100000
DTEND;TZID=UTC:20260421T140000
DTSTAMP:20260419T151828
CREATED:20260310T114448Z
LAST-MODIFIED:20260310T114448Z
UID:37413-1776765600-1776780000@kopfsache-magazin.de
SUMMARY:Tagesseminar: Digital dabei\, Teil 1 (Sicher und selbstbestimmt im Netz)
DESCRIPTION:Das Internet kann Türen öffnen: zu Freundschaften\, Informationen und neuen Möglichkeiten im Alltag. Gleichzeitig tauchen oft Fragen auf: Was darf ich teilen? Wie mache ich mein Passwort sicher? Was tun\, wenn jemand gemein ist? In diesem Seminar bekommst Du leicht verständliche Tipps\, wie Du Dich im Netz sicher bewegst – Schritt für Schritt. Du lernst\, wie Du Deine Daten schützt\, Passwörter einfach und sicher erstellst und gelassen bleibst\, wenn etwas Unsicheres auftaucht. Außerdem schauen wir\, wie Du digitale Chancen nutzen kannst\, um in Kontakt zu bleiben und Deinen Alltag zu erleichtern. \nÜber ZNS Akademie \nDie ZNS – Akademie gGmbH hat zum Ziel\, die Versorgung\, Lebensqualität und Integration von Menschen mit Schädelhirntrauma zu verbessern. Dafür stellen Seminare\, Informationsveranstaltungen und Kongresse bedarfsorientiertes Wissen bereit für Betroffene\, Angehörige und Fachleute. \nJetzt anmelden!
URL:https://kopfsache-magazin.de/termin/tagesseminar-digital-dabei-teil-1-sicher-und-selbstbestimmt-im-netz/
LOCATION:Siegburg\, Siegburg\, 53721\, Germany
ATTACH;FMTTYPE=image/jpeg:https://kopfsache-magazin.de/wp-content/uploads/2026/03/woman-touching-smart-technology-holographic-interface-scaled.jpg
ORGANIZER;CN="ZNS Akademie":MAILTO:info@zns-akademie.de
END:VEVENT
BEGIN:VEVENT
DTSTART;VALUE=DATE:20260424
DTEND;VALUE=DATE:20260427
DTSTAMP:20260419T151828
CREATED:20260310T115106Z
LAST-MODIFIED:20260310T115106Z
UID:37417-1776988800-1777247999@kopfsache-magazin.de
SUMMARY:Mobil mit SHT
DESCRIPTION:Fährst Du gerne Rad\, fühlst Dich aber unsicher? In diesem Seminar kannst Du verschiedene Fahrräder wie Tourenrad\, Dreirad\, Tandem oder Rollstuhlrad ausprobieren. Im Fahrsicherheitstraining gewinnst Du Sicherheit und Tipps. Höhepunkt ist eine gemeinsame Radtour\, die Deine Mobilität stärkt und Freude macht. \nDas erwartet Dich: \n\nDu testest unterschiedliche Fahrradtypen.\nDu übst Sicherheit im Fahrtraining.\nDu erlebst eine gemeinsame Radtour.\nDu tauschst Dich mit anderen über Erfahrungen aus.\n\n  \nJetzt anmelden!
URL:https://kopfsache-magazin.de/termin/mobil-mit-sht/
LOCATION:Dresden\, Germany
ATTACH;FMTTYPE=image/jpeg:https://kopfsache-magazin.de/wp-content/uploads/2026/03/DRK_web.jpg
ORGANIZER;CN="ZNS Akademie":MAILTO:info@zns-akademie.de
END:VEVENT
BEGIN:VEVENT
DTSTART;TZID=UTC:20260425T093000
DTEND;TZID=UTC:20260425T173000
DTSTAMP:20260419T151828
CREATED:20260316T131605Z
LAST-MODIFIED:20260316T132501Z
UID:37484-1777109400-1777138200@kopfsache-magazin.de
SUMMARY:2. Leipziger ALS-Info-Tag 2026
DESCRIPTION:Flyer zum 2.ALS-Info-Tag 2026 in Leipzig\nAuf dem ALS-Info-Tag erhalten ALS-Betroffene\, Angehörige und Pflegekräfte aktuelle Informationen zur ALS. Das Format dient dazu\, sich auszutauschen\, Fragen zu stellen und sich Lösungen live anzuschauen. \nAuch dieses Jahr werden am Nachmittag gezielt Vorträge für ALS-Betroffene und für Pflege­kräfte / Assistenzen\, die mit und für ALS-Betroffene arbeiten\, geboten. Natürlich ist jeder Vortrag / Workshop frei für jede und jeden. \n#KennstDuALS \nDas ganze Programm finden Sie hier –>
URL:https://kopfsache-magazin.de/termin/2-leipziger-als-info-tag-2026/
LOCATION:ASB-Objekt „Am Sonnenpark“\, Mattheuerbogen 6\, Leipzig\, 04289\, Germany
ATTACH;FMTTYPE=image/jpeg:https://kopfsache-magazin.de/wp-content/uploads/2026/03/cityscape-frankfurt-downtown-sunset-germany-scaled.jpg
ORGANIZER;CN="ALS mobil e.V.":MAILTO:kontakt@als-mobil.de
END:VEVENT
BEGIN:VEVENT
DTSTART;VALUE=DATE:20260430
DTEND;VALUE=DATE:20260503
DTSTAMP:20260419T151828
CREATED:20260310T120035Z
LAST-MODIFIED:20260310T120035Z
UID:37420-1777507200-1777766399@kopfsache-magazin.de
SUMMARY:Was tut mir gut?
DESCRIPTION:Nach einem Schädelhirntrauma kann der Alltag anstrengend sein. In diesem Seminar findest Du heraus\, was Dir im Alltag guttut – neben Therapien und medizinischen Angeboten. Ziel ist es\, Dein Selbstbewusstsein zu stärken und neue Wege für Dein Wohlbefinden zu entdecken. \nDas erwartet Dich: \n\nDu spürst Deinen Bedürfnissen nach.\nDu lernst Deinen Körper besser kennen.\nDu übst Techniken\, die Dir helfen zu entspannen.\nDu kommst mit anderen ins Gespräch und erhältst Anregungen.\n\nJetzt anmelden!
URL:https://kopfsache-magazin.de/termin/was-tut-mir-gut-2/
LOCATION:Hennef\, Hennef\, 53773\, Germany
ATTACH;FMTTYPE=image/jpeg:https://kopfsache-magazin.de/wp-content/uploads/2026/03/full-shot-woman-jumping-outdoors-scaled.jpg
ORGANIZER;CN="ZNS Akademie":MAILTO:info@zns-akademie.de
END:VEVENT
BEGIN:VEVENT
DTSTART;TZID=UTC:20260505T100000
DTEND;TZID=UTC:20260505T160000
DTSTAMP:20260419T151828
CREATED:20260310T123939Z
LAST-MODIFIED:20260310T123939Z
UID:37424-1777975200-1777996800@kopfsache-magazin.de
SUMMARY:Neuropsychologische Störungsbilder
DESCRIPTION:Vielleicht kennst Du das: Im Alltag treten Veränderungen auf\, die schwer zu erklären sind. Häufig stecken neuropsychologische Störungen dahinter – unsichtbar und nicht leicht zu erkennen. In diesem Online-Seminar erfährst Du\, welche Störungsbilder nach einem Schädelhirntrauma auftreten und wie Du damit umgehen kannst. \nDas erwartet Dich: \n\nDu lernst häufige Störungsbilder kennen.\nDu verstehst die Ursachen für Auffälligkeiten.\nDu erhältst Anregungen für einen hilfreichen Umgang.\n\nJetzt anmelden!
URL:https://kopfsache-magazin.de/termin/neuropsychologische-stoerungsbilder/
LOCATION:ZOOM (online)
ATTACH;FMTTYPE=image/jpeg:https://kopfsache-magazin.de/wp-content/uploads/2026/03/csm_NP_Stoerungsbilder_breit_fa47dba1ec.jpg
ORGANIZER;CN="ZNS Akademie":MAILTO:info@zns-akademie.de
END:VEVENT
BEGIN:VEVENT
DTSTART;TZID=UTC:20260507T150000
DTEND;TZID=UTC:20260507T180000
DTSTAMP:20260419T151828
CREATED:20260414T111214Z
LAST-MODIFIED:20260414T111214Z
UID:37548-1778166000-1778176800@kopfsache-magazin.de
SUMMARY:Sprechzeit Schlaganfall
DESCRIPTION:Leiden Sie unter den neuropsychologischen Folgen eines Schlaganfalls? \nDie Therapie solcher Störungen ist kein Sprint\, sondern ein Marathon. Sie braucht Zeit. Die gute Nachricht lautet: Unser Gehirn lernt ein Leben lang. Erfolge sind deshalb auch lange nach dem Schlaganfall noch möglich. \nIn der SPRECHZEIT am 7. Mai erklären Ihnen unsere Expertinnen\, welche Therapie-Möglichkeiten es für Sie gibt oder welche Kompensationsstrategien Ihnen helfen könnten. \nJährlich erleiden 270.000 Menschen in Deutschland einen Schlaganfall. Vier von fünf Betroffenen erleiden dabei neuropsychologische Folgen: Konzentrations- und Gedächtnisprobleme\, Sprachstörungen\, Planungsstörungen\, Persönlichkeitsveränderungen wie Reizbarkeit oder Depression oder schnelle Erschöpfung. Die Therapie solcher Störungen ist kein Sprint\, sondern ein Marathon. Sie braucht Zeit. Die gute Nachricht: Unser Gehirn lernt ein Leben lang. Erfolge sind deshalb auch lange nach dem Schlaganfall noch möglich.  \n\n\n\n\n\nZwei Neuropsychologinnen\, eine Sprachtherapeutin und eine Ergotherapeutin bilden unser Beratungsteam. Alle verfügen über langjährige Erfahrung in der Behandlung von Schlaganfall-Patientinnen und -Patienten. \n\n\n\n\n\n\n\n\nBirgit Straßek – Dipl.-Psychologin\, Klinische Neuropsychologin (GNP) Aatalklinik Bad Wünnenberg\n\n\n\n\n\n\n\n\n\n\nSabine Böhm – Dipl.-Psychologin\, Klinische Neuropsychologin (GNP) Leitung Psychologie PASSAUER WOLF Reha-Zentrum Bad Griesbach\n\n\n\n\n\n\n\n\n\n\nJasmin Wolf – Ergotherapeutin Alfried Krupp Krankenhaus Essen\n\n\n\n\n\n\n\n\n\n\nDr. Theresa Schölderle – Sprachtherapeutin neolexon Aphasie-App\, Limedix GmbH München\n\n\n\n\n\n\n\n\n\nDie SPRECHZEIT wird unterstützt von der Limedix GmbH\, Entwicklerin der Sprachtherapie-App „neolexon“. Das Angebot richtet sich an Betroffene und Angehörige.\n\n\n\n\n\nWeiterführende Informationen rund um das Thema unsichtbare Schlaganfall-Folgen finden Sie auf unserer Aktionsseite zum Tag gegen den Schlaganfall.
URL:https://kopfsache-magazin.de/termin/sprechzeit-schlaganfall/
LOCATION:Telefonisch
ATTACH;FMTTYPE=image/jpeg:https://kopfsache-magazin.de/wp-content/uploads/2026/04/closeup-office-wired-telephone-scaled.jpg
ORGANIZER;CN="Stiftung Deutscha Schlaganfallhilfe":MAILTO:info@schlaganfall-hilfe.de
END:VEVENT
BEGIN:VEVENT
DTSTART;VALUE=DATE:20260519
DTEND;VALUE=DATE:20260523
DTSTAMP:20260419T151828
CREATED:20260401T105446Z
LAST-MODIFIED:20260401T105446Z
UID:37537-1779148800-1779494399@kopfsache-magazin.de
SUMMARY:OTWorld 2026
DESCRIPTION:Seit 50 Jahren ist die OTWorld die führende Plattform für Hersteller\, Händler und Dienstleister in der modernen Hilfsmittelversorgung\, die an der Schnittstelle zwischen Mensch und Technik agiert. Als weltweit größte Veranstaltung der Branche bringt sie alle zwei Jahre Fachleute und Entscheidungsträger zusammen. \nIn einer einzigartigen Kombination aus Weltkongress und Leitmesse \, setzt sie Standards für die Versorgung von morgen und bietet eine ideale Mischung aus aktuellem Wissen und Erfahrungsaustausch. \nHier findest du alles\, was du benötigst\, um dein Fachwissen zu erweitern\, neue Perspektiven zu gewinnen und dein Angebot optimal zu präsentieren. Gemeinsam gestalten wir die Zukunft der modernen Hilfsmittelversorgung!
URL:https://kopfsache-magazin.de/termin/otworld-2026/
LOCATION:Leipziger Messe\, Messe-Allee 1\, Leipzig\, 04356\, Germany
ATTACH;FMTTYPE=image/jpeg:https://kopfsache-magazin.de/wp-content/uploads/2026/04/OTWorld-2026.jpg
ORGANIZER;CN="Leipziger Messe GmbH":MAILTO:info@leipziger-messe.de
END:VEVENT
BEGIN:VEVENT
DTSTART;VALUE=DATE:20260623
DTEND;VALUE=DATE:20260626
DTSTAMP:20260419T151828
CREATED:20260310T124529Z
LAST-MODIFIED:20260310T124529Z
UID:37427-1782172800-1782431999@kopfsache-magazin.de
SUMMARY:Teilhabe erleben
DESCRIPTION:Entdecke Leipzig – lebendig\, barrierefrei und gemeinsam! In diesem Seminar tauchst Du in die spannende Welt der Stadterkundung ein. Gemeinsam plant Ihr eine individuelle Tour durch Leipzig – mit kreativen Ideen und praktischen Tipps für barrierefreies Reisen. Dabei geht es nicht nur um Wege und Orte\, sondern auch um Teilhabe\, Selbstbestimmung und Freude am Unterwegssein. \nDas erwartet Dich: \n\nDu erhältst Tipps zur Planung barrierefreier Touren.\nDu entdeckst\, worauf es unterwegs ankommt.\nDu lernst\, wo Du hilfreiche Informationen findest.\nDu tauschst Dich mit anderen über Erfahrungen aus\n\nJetzt anmelden!
URL:https://kopfsache-magazin.de/termin/teilhabe-erleben/
LOCATION:Leipzig\, Leipzig\, Germany
ATTACH;FMTTYPE=image/jpeg:https://kopfsache-magazin.de/wp-content/uploads/2026/03/csm_Teilhabe_erleben_breit_a4b1264c39.jpg
ORGANIZER;CN="ZNS Akademie":MAILTO:info@zns-akademie.de
END:VEVENT
BEGIN:VEVENT
DTSTART;TZID=UTC:20260630T160000
DTEND;TZID=UTC:20260630T200000
DTSTAMP:20260419T151828
CREATED:20260330T125308Z
LAST-MODIFIED:20260330T125308Z
UID:37527-1782835200-1782849600@kopfsache-magazin.de
SUMMARY:Schadensregulierung nach SHT
DESCRIPTION:Ein Schädelhirntrauma bringt oft auch rechtliche und finanzielle Fragen mit sich. Welche Ansprüche gibt es und wie gelingt der Umgang mit Versicherungen und Kostenträgern\, ohne den Überblick zu verlieren? \nIn diesem Online-Seminar erhalten Sie einen strukturierten und gut verständlichen Überblick über zentrale Themen der Schadensregulierung. Eine erfahrene Fachanwältin für Verkehrsrecht vermittelt die Inhalte praxisnah und anschaulich – mit Blick auf die besonderen Herausforderungen nach einem Schädelhirntrauma. \nDas erwartet Sie: \n\nSie erhalteneinen Überblick über zentrale Ansprüche wie Verdienstausfall\, Pflegekosten\, Umbaumaßnahmen etc.\nSie lernen\, wie Sie mit Kostenträgern wie Unfallversicherungen sinnvoll umgehen.\nSie erfahren\, ab wann anwaltliche Unterstützung notwendig ist.\nPraxisbeispiele geben Ihnen zusätzliche Orientierung.\n\nHier anmelden.
URL:https://kopfsache-magazin.de/termin/schadensregulierung-nach-sht/
LOCATION:online
ATTACH;FMTTYPE=image/jpeg:https://kopfsache-magazin.de/wp-content/uploads/2026/03/hand-that-holds-hammer-piles-money-written-with-white-chalk-draw-concept-scaled.jpg
ORGANIZER;CN="ZNS %E2%80%93 Hannelore Kohl Stiftung":MAILTO:info@hannelore-kohl-stiftung.de
END:VEVENT
BEGIN:VEVENT
DTSTART;VALUE=DATE:20260702
DTEND;VALUE=DATE:20260705
DTSTAMP:20260419T151828
CREATED:20260310T132814Z
LAST-MODIFIED:20260310T132814Z
UID:37431-1782950400-1783209599@kopfsache-magazin.de
SUMMARY:"Der Ball rollt" - Fußballworkshop
DESCRIPTION:Bewegung\, Ballgefühl und Begegnung – gemeinsam aktiv mit Fußball! In Kooperation mit der DFB-Stiftung Sepp Herberger trainieren Fußballbegeisterte zusammen – mit Freude\, Teamgeist und Fair Play. Im Mittelpunkt stehen Bewegung und Miteinander\, nicht Leistung. Abseits des Platzes bleibt Zeit für Gespräche und Austausch. \nDas erwartet Dich: \n\nDu wirst Teil eines Teams.\nDu stärkst Koordination und Geschicklichkeit.\nDu probierst Dich sportlich aus.\nDu sammelst neue Erfahrungen in Gemeinschaft.\n\nJetzt anmelden!
URL:https://kopfsache-magazin.de/termin/der-ball-rollt-fussballworkshop-2/
LOCATION:Kamen\, Kamen\, 59174\, Germany
ATTACH;FMTTYPE=image/jpeg:https://kopfsache-magazin.de/wp-content/uploads/2026/03/soccer-into-goal-success-concept-scaled.jpg
ORGANIZER;CN="ZNS Akademie":MAILTO:info@zns-akademie.de
END:VEVENT
BEGIN:VEVENT
DTSTART;TZID=UTC:20260709T080000
DTEND;TZID=UTC:20260709T170000
DTSTAMP:20260419T151828
CREATED:20260310T133455Z
LAST-MODIFIED:20260310T133455Z
UID:37435-1783584000-1783616400@kopfsache-magazin.de
SUMMARY:Digital dabei. Teil II
DESCRIPTION:Immer mehr läuft heute digital – doch gerade nach einem Schädelhirntrauma fühlt man sich bei Smartphone\, E-Mail & Co. oft unsicher. In diesem interaktiven Online-Seminar entdeckst Du Schritt für Schritt\, wie Du über das Internet mit anderen in Kontakt bleiben und neue Gemeinschaft erleben kannst. Ganz ohne technisches Vorwissen lernst Du in verständlicher Sprache die wichtigsten Anwendungen kennen. Zusammen üben wir z. B. das Versenden von Nachrichten und Sprachnachrichten\, probieren eine Videokonferenz aus und sprechen über Deine Fragen zur sicheren Nutzung. Erlebe\, wie viel Freude es machen kann\, online verbunden zu sein – in Deinem Tempo und mit viel gegenseitiger Unterstützung. \nDas erwartet Dich: \n\nEinfache Erklärungen zu E-Mails\, Chat und sozialen Netzwerken.\nPraktische Übungen mit Sprachnachrichten\, Chat und Videoanrufen.\nTipps für sichere und respektvolle Online-Kommunikation.\nVorstellung von Online-Gruppen speziell für Menschen mit SHT.\n\nJetzt anmelden! 
URL:https://kopfsache-magazin.de/termin/digital-dabei-teil-ii/
LOCATION:online
ATTACH;FMTTYPE=image/jpeg:https://kopfsache-magazin.de/wp-content/uploads/2026/03/woman-touching-smart-technology-holographic-interface-scaled.jpg
ORGANIZER;CN="ZNS Akademie":MAILTO:info@zns-akademie.de
END:VEVENT
BEGIN:VEVENT
DTSTART;TZID=UTC:20260716T150000
DTEND;TZID=UTC:20260716T160000
DTSTAMP:20260419T151828
CREATED:20260327T131144Z
LAST-MODIFIED:20260328T125042Z
UID:37514-1784214000-1784217600@kopfsache-magazin.de
SUMMARY:Infoveranstaltung ZNS-Akademie
DESCRIPTION:Sie möchten in Ruhe über die Angebote der ZNS-Akademie informieren\, ohne sich festlegen zu müssen? Oder suchen Sie als Fachperson einen guten Überblick\, um Angebote gezielt an Klientinnen und Klienten weiterempfehlen zu können? \nIn dem 60-minütigen Online-Seminaren bekommen Sie einen transparenten Überblick über die Seminare und Events. Sie erfahren\, für wen welche Angebote gedacht sind\, wie die Teilnahme abläuft und was Sie inhaltlich und organisatorisch erwartet. „Wir zeigen Dir Schritt für Schritt\, wie ein typischer Seminartag gestaltet ist – inklusive Pausenstruktur\, Tempo und Möglichkeiten\, sich einzubringen oder auch einfach nur zuzuhören.“ \nDabei geht es vor allem darum\, Unsicherheiten abzubauen: Wie läuft das Ankommen? Muss ich etwas erzählen? Was ist\, wenn ich schnell erschöpft bin? Wie ist der Rahmen für Angehörige und Betroffene? Sie bekommen klare Antworten und Sie können in einem sicheren Rahmen Fragen stellen. \nAm Ende wissen Sie\, welches Angebot zu Ihnen (oder Ihrem Klientel) passt – und wie Sie sich gut vorbereitet anmelden können. \nFür alle Teilnehmenden gilt:\n• Sie müssen nichts erzählen\n• Sie müssen nichts entscheiden \nFür Fachleute gilt:\n• Sie erhalten einen kompakten Überblick über Inhalte\, Zielgruppen und Rahmenbedingungen\n• Sie können einschätzen\, welche Angebote für welchen Klient passend sind \nDie Infoveranstaltung ist bewusst niedrigschwellig gestaltet. \nTermine zur Auswahl:\n• 16.04.2026:  11:00 – 12:00 Uhr\n• 16.07.2026:  15:00 – 16:00 Uhr\n• 15.10.2026:  11:00 – 12:00 Uhr \nHier können Sie sich jederzeit anmelden.
URL:https://kopfsache-magazin.de/termin/infoveranstaltung-zns-akademie-2/
LOCATION:online
ATTACH;FMTTYPE=image/jpeg:https://kopfsache-magazin.de/wp-content/uploads/2026/03/19.-Koelner-Heimbeatmungsworkshop-Kopie.jpg
ORGANIZER;CN="ZNS Akademie":MAILTO:info@zns-akademie.de
END:VEVENT
BEGIN:VEVENT
DTSTART;VALUE=DATE:20260731
DTEND;VALUE=DATE:20260803
DTSTAMP:20260419T151828
CREATED:20260310T133817Z
LAST-MODIFIED:20260310T133817Z
UID:37437-1785456000-1785715199@kopfsache-magazin.de
SUMMARY:ZNS-Kochclub
DESCRIPTION:Kochen mit Freude – trotz Einschränkungen aktiv genießen! \nKochen fällt Dir schwer? Dann kennst Du vielleicht auch den Frust: weniger Genuss\, ungesunde Ernährung\, fehlende Motivation. In diesem Seminar entdeckst Du\, wie Kochen wieder leichter wird – mit einfachen Rezepten\, passenden Hilfsmitteln und guter Stimmung. \nDas erwartet Dich: \n\nDu kochst und backst in Gemeinschaft.\nDu erhältst Tipps von erfahrenen Köchen.\nDu lernst Hilfsmittel und gute Lebensmittel kennen.\nDu findest Inspiration für mehr Genuss im Alltag.\n\nJetzt anmelden!
URL:https://kopfsache-magazin.de/termin/zns-kochclub-2/
LOCATION:Frankfurt\, Frankfurt am Main\, Germany
ATTACH;FMTTYPE=image/jpeg:https://kopfsache-magazin.de/wp-content/uploads/2026/03/csm_ZNS_Kochclub_breit_eb71b51567.jpg
ORGANIZER;CN="ZNS Akademie":MAILTO:info@zns-akademie.de
END:VEVENT
BEGIN:VEVENT
DTSTART;VALUE=DATE:20260910
DTEND;VALUE=DATE:20260913
DTSTAMP:20260419T151828
CREATED:20260127T174443Z
LAST-MODIFIED:20260127T174443Z
UID:37317-1788998400-1789257599@kopfsache-magazin.de
SUMMARY:Deutscher Schlaganfall­­­kongress (DSG26)
DESCRIPTION:Das Programm wird natürlich die ganze Schlaganfallversorgung in ihrer ganzen Breite abbilden – Prävention\, präklinische und akutklinische Versorgung\, die Frührehabilitation und insbesondere auch zu Themen der systematischen Nachsorge.
URL:https://kopfsache-magazin.de/termin/deutscher-schlaganfallkongress-dsg26/
LOCATION:Henry-Ford-Bau\, Garystraße 35\, Berlin\, 14195\, Germany
ATTACH;FMTTYPE=image/jpeg:https://kopfsache-magazin.de/wp-content/uploads/2025/10/4429_news.jpg
ORGANIZER;CN="Deutsche Schlaganfall-Gesellschaft (DSG) e.V.":MAILTO:info@dsg-berlin.org
END:VEVENT
BEGIN:VEVENT
DTSTART;VALUE=DATE:20260923
DTEND;VALUE=DATE:20260927
DTSTAMP:20260419T151828
CREATED:20260311T090357Z
LAST-MODIFIED:20260311T090357Z
UID:37469-1790121600-1790467199@kopfsache-magazin.de
SUMMARY:RehaCare 2026
DESCRIPTION:Der Hotspot für Innovation\, Austausch und Teilhabe\nDie REHACARE ist der zentrale Treffpunkt der internationalen Community für ein selbstbestimmtes Leben. Hier präsentieren Ausstellerinnen und Austeller aus aller Welt neueste Produkte\, Dienstleistungen und Innovationen\, die den Alltag erleichtern und Teilhabe ermöglichen. \nAls führende Fachmesse setzt die REHACARE vom 23. – 26. September 2026 Maßstäbe für Zukunftsthemen rund um Rehabilitation und Inklusion – mit der einzigartigen Kombination aus hochkarätiger Fachmesse\, praxisnahen Foren und inspirierenden Begegnungen.
URL:https://kopfsache-magazin.de/termin/rehacare-2026/
LOCATION:Messe Düsseldorf\, Stockumer Kirchstraße 61\, Düsseldorf\, 40474\, Germany
ATTACH;FMTTYPE=image/jpeg:https://kopfsache-magazin.de/wp-content/uploads/2025/09/Rehacare25_MK6699.jpg
ORGANIZER;CN="Messe D%C3%BCsseldorf GmbH":MAILTO:info@messe-duesseldorf.de
END:VEVENT
BEGIN:VEVENT
DTSTART;VALUE=DATE:20260923
DTEND;VALUE=DATE:20260927
DTSTAMP:20260419T151828
CREATED:20260401T120339Z
LAST-MODIFIED:20260401T120339Z
UID:37545-1790121600-1790467199@kopfsache-magazin.de
SUMMARY:RehaCare 2026
DESCRIPTION:Der Hotspot für Innovation\, Austausch und Teilhabe\nDie REHACARE ist der zentrale Treffpunkt der internationalen Community für ein selbstbestimmtes Leben. Hier präsentieren Ausstellerinnen und Austeller aus aller Welt neueste Produkte\, Dienstleistungen und Innovationen\, die den Alltag erleichtern und Teilhabe ermöglichen. \nAls führende Fachmesse setzt die REHACARE vom 23. – 26. September 2026 Maßstäbe für Zukunftsthemen rund um Rehabilitation und Inklusion – mit der einzigartigen Kombination aus hochkarätiger Fachmesse\, praxisnahen Foren und inspirierenden Begegnungen.
URL:https://kopfsache-magazin.de/termin/rehacare-2026-2/
LOCATION:Messe Düsseldorf\, Stockumer Kirchstraße 61\, Düsseldorf\, 40474\, Germany
ATTACH;FMTTYPE=image/jpeg:https://kopfsache-magazin.de/wp-content/uploads/2025/02/Rehacare24_MT54968-scaled.jpg
ORGANIZER;CN="Messe D%C3%BCsseldorf GmbH":MAILTO:info@messe-duesseldorf.de
END:VEVENT
BEGIN:VEVENT
DTSTART;TZID=UTC:20261008T080000
DTEND;TZID=UTC:20261008T170000
DTSTAMP:20260419T151828
CREATED:20260310T174353Z
LAST-MODIFIED:20260310T174353Z
UID:37441-1791446400-1791478800@kopfsache-magazin.de
SUMMARY:Digital dabei. Teil III
DESCRIPTION:Digitale Technik kann den Alltag leichter machen – gerade nach einem Schädelhirntrauma. Doch oft wirkt alles kompliziert: Apps\, Sprachassistenten\, künstliche Intelligenz. In diesem Seminar entdeckst Du\, wie digitale Helfer Dich unterstützen können – Schritt für Schritt und ohne Vorwissen. Wir probieren Funktionen direkt aus – vom Planen von Terminen bis zum Erinnern an Medikamente. Du bekommst einfache Schritt-für-Schritt-Anleitungen und Tipps zur sicheren Nutzung\, z. B. zu Datenschutz und Barrierefreiheit. Du bestimmst das Tempo; kurze Pausen und klare Wiederholungen sind fest eingeplant. \nDas erwartet Dich: \n\nEinfache Apps für Alltag\, Struktur und Erinnerungen kennenlernen.\nDigitale Assistenten wie Siri oder Alexa praktisch erleben.\nKI wie ChatGPT ausprobieren – Texte vereinfachen\, Einkaufslisten erstellen und viel\nTipps für Datenschutz und den sicheren Umgang mit digitalen Helfern.\n\nJetzt anmelden!
URL:https://kopfsache-magazin.de/termin/digital-dabei-teil-iii/
LOCATION:online
ATTACH;FMTTYPE=image/jpeg:https://kopfsache-magazin.de/wp-content/uploads/2026/03/woman-touching-smart-technology-holographic-interface-scaled.jpg
ORGANIZER;CN="ZNS Akademie":MAILTO:info@zns-akademie.de
END:VEVENT
BEGIN:VEVENT
DTSTART;TZID=UTC:20261015T110000
DTEND;TZID=UTC:20261015T120000
DTSTAMP:20260419T151828
CREATED:20260327T131349Z
LAST-MODIFIED:20260328T124017Z
UID:37516-1792062000-1792065600@kopfsache-magazin.de
SUMMARY:Infoveranstaltung ZNS-Akademie
DESCRIPTION:Sie möchten in Ruhe über die Angebote der ZNS-Akademie informieren\, ohne sich festlegen zu müssen? Oder suchen Sie als Fachperson einen guten Überblick\, um Angebote gezielt an Klientinnen und Klienten weiterempfehlen zu können? \nIn dem 60-minütigen Online-Seminaren bekommen Sie einen transparenten Überblick über die Seminare und Events. Sie erfahren\, für wen welche Angebote gedacht sind\, wie die Teilnahme abläuft und was Sie inhaltlich und organisatorisch erwartet. „Wir zeigen Dir Schritt für Schritt\, wie ein typischer Seminartag gestaltet ist – inklusive Pausenstruktur\, Tempo und Möglichkeiten\, sich einzubringen oder auch einfach nur zuzuhören.“ \nDabei geht es vor allem darum\, Unsicherheiten abzubauen: Wie läuft das Ankommen? Muss ich etwas erzählen? Was ist\, wenn ich schnell erschöpft bin? Wie ist der Rahmen für Angehörige und Betroffene? Sie bekommen klare Antworten und Sie können in einem sicheren Rahmen Fragen stellen. \nAm Ende wissen Sie\, welches Angebot zu Ihnen (oder Ihrem Klientel) passt – und wie Sie sich gut vorbereitet anmelden können. \nFür alle Teilnehmenden gilt:\n• Sie müssen nichts erzählen\n• Sie müssen nichts entscheiden \nFür Fachleute gilt:\n• Sie erhalten einen kompakten Überblick über Inhalte\, Zielgruppen und Rahmenbedingungen\n• Sie können einschätzen\, welche Angebote für welchen Klient passend sind \nDie Infoveranstaltung ist bewusst niedrigschwellig gestaltet. \nTermine zur Auswahl:\n• 16.04.2026:  11:00 – 12:00 Uhr\n• 16.07.2026:  15:00 – 16:00 Uhr\n• 15.10.2026:  11:00 – 12:00 Uhr \nHier können Sie sich jederzeit anmelden.
URL:https://kopfsache-magazin.de/termin/infoveranstaltung-zns-akademie-3/
LOCATION:online
ATTACH;FMTTYPE=image/jpeg:https://kopfsache-magazin.de/wp-content/uploads/2026/03/19.-Koelner-Heimbeatmungsworkshop-Kopie.jpg
ORGANIZER;CN="ZNS Akademie":MAILTO:info@zns-akademie.de
END:VEVENT
BEGIN:VEVENT
DTSTART;TZID=UTC:20261105T080000
DTEND;TZID=UTC:20261105T170000
DTSTAMP:20260419T151828
CREATED:20260310T175717Z
LAST-MODIFIED:20260310T175717Z
UID:37449-1793865600-1793898000@kopfsache-magazin.de
SUMMARY:Digital dabei. Teil IV
DESCRIPTION:Der digitale Alltag kann entlasten – oder auch stressen. Nach einem Schädelhirntrauma ist es besonders wichtig\, eigene Kräfte einzuteilen und gut für sich zu sorgen. In diesem Seminar entdeckst Du\, wie digitale Angebote Deinen Alltag leichter machen und gleichzeitig für mehr Ruhe sorgen können. \nDas erwartet Dich: \n\nAustausch über digitale Selbsthilfegruppen und Online-Treffs.\nApps für Organisation\, Struktur und Erinnerungen kennenlernen.\nEntspannungsübungen und Wohlfühl-Angebote online ausprobieren.\nStrategien gegen digitalen Stress entwickeln.\n\nJetzt anmelden!
URL:https://kopfsache-magazin.de/termin/digital-dabei-teil-iv/
LOCATION:online
ATTACH;FMTTYPE=image/jpeg:https://kopfsache-magazin.de/wp-content/uploads/2026/03/woman-touching-smart-technology-holographic-interface-scaled.jpg
ORGANIZER;CN="ZNS Akademie":MAILTO:info@zns-akademie.de
END:VEVENT
BEGIN:VEVENT
DTSTART;VALUE=DATE:20270311
DTEND;VALUE=DATE:20270313
DTSTAMP:20260419T151828
CREATED:20250327T093500Z
LAST-MODIFIED:20250327T093500Z
UID:36393-1804723200-1804895999@kopfsache-magazin.de
SUMMARY:17. Nachsorgekongress
DESCRIPTION:Save the date: Leider gibt es zu dieser Veranstaltung noch keine näheren Informationen.
URL:https://kopfsache-magazin.de/termin/17-nachsorgekongress/
LOCATION:Dresden\, Germany
ATTACH;FMTTYPE=image/jpeg:https://kopfsache-magazin.de/wp-content/uploads/2025/03/DSC_3620-scaled.jpg
ORGANIZER;CN="ZNS %E2%80%93 Hannelore Kohl Stiftung":MAILTO:info@hannelore-kohl-stiftung.de
END:VEVENT
BEGIN:VEVENT
DTSTART;VALUE=DATE:20270513
DTEND;VALUE=DATE:20270516
DTSTAMP:20260419T151828
CREATED:20260127T190827Z
LAST-MODIFIED:20260127T194130Z
UID:37320-1810166400-1810425599@kopfsache-magazin.de
SUMMARY:REHAB – Europäische Fachmesse
DESCRIPTION:Vom 13. bis 15. Mai 2027 dreht sich auf dem barrierefreien Gelände der Messe Karlsruhe alles um Interaktion\, Innovation und Austausch. Sowohl Privat- als auch Fachbesuchende aus den Bereichen Therapie\, Medizin\, Pflege sowie Reha- und Orthopädietechnik nutzen die Messe zum Austausch und Kennenlernen der neuesten technischen Hilfsmittel\, Assistenztechnologien und Mobilitätshilfen. 2025 präsentierten 400 Ausstellende aus 16 Länder in drei Messehallen die neuesten Trends\, Therapieangebote und Innovationen der Branche. \nhttps://kopfsache-magazin.de/wp-content/uploads/2026/01/20011bb8-0eea-40b4-a8ae-2b6da44e584c-1.mp4
URL:https://kopfsache-magazin.de/termin/rehab-europaeische-fachmesse/
LOCATION:Messe Karlsruhe\, Messeallee 1\, 76287 Rheinstetten\, Deutschland
ATTACH;FMTTYPE=image/jpeg:https://kopfsache-magazin.de/wp-content/uploads/2026/01/IMG_5843-scaled.jpeg
ORGANIZER;CN="Karlsruher Messe- und Kongress GmbH":MAILTO:info@messe-karlsruhe.de
END:VEVENT
END:VCALENDAR