BEGIN:VCALENDAR
VERSION:2.0
PRODID:-//WordPress - ECPv6.15.20//NONSGML v1.0//EN
CALSCALE:GREGORIAN
METHOD:PUBLISH
X-WR-CALNAME:WordPress
X-ORIGINAL-URL:https://kopfsache-magazin.de
X-WR-CALDESC:Veranstaltungen für WordPress
REFRESH-INTERVAL;VALUE=DURATION:PT1H
X-Robots-Tag:noindex
X-PUBLISHED-TTL:PT1H
BEGIN:VTIMEZONE
TZID:UTC
BEGIN:STANDARD
TZOFFSETFROM:+0000
TZOFFSETTO:+0000
TZNAME:UTC
DTSTART:20240101T000000
END:STANDARD
END:VTIMEZONE
BEGIN:VEVENT
DTSTART;TZID=UTC:20250308T183000
DTEND;TZID=UTC:20250308T203000
DTSTAMP:20260419T151410
CREATED:20250305T114450Z
LAST-MODIFIED:20250305T114539Z
UID:36290-1741458600-1741465800@kopfsache-magazin.de
SUMMARY:ZNS-Tanzclub
DESCRIPTION:Der ZNS-Tanzclub des Tanzhaus Bonn und der ZNS-Stiftung hat auch in diesem Jahr wieder einen festen Platz im Bonner Veranstaltungskalender. Am Samstag\, den 8. März 2025 ist es soweit: Die inklusive Tanzparty findet wieder in den einladenden Räumlichkeiten des Tanzhauses Bonn statt. \n„Für mich und das Tanzhaus Bonn ist der ZNS-Tanzclub ein echtes Herzensprojekt. Seit Jahren begleiten wir Menschen mit Schädelhirnverletzung und erleben\, welche Freude die gemeinsame Bewegung bringt\,“ erklärt Timo Müller\, Geschäftsführer des Tanzhaus Bonn. \n„Wir freuen uns sehr über die gelungene Zusammenarbeit mit dem Tanzhaus Bonn und danken vor allem Timo Müller für die tolle\, langjährige Zusammenarbeit\, ohne die dieses wunderbare Angebot nicht möglich wäre“\, erklärt Dr. Susanne Schaefer\, Geschäftsführerin der ZNS-Stiftung. \nDer ZNS-Tanzclub wurde als CSR-Projekt auf dem Marktplatz Gute Geschäfte ins Leben gerufen und wird seitdem vom Tanzhaus Bonn ehrenamtlich für die ZNS-Akademie durchgeführt. Für dieses Engagement wurde das Projekt 2023 mit dem CSR-Preis in Silber ausgezeichnet. \nDie Teilnahme ist kostenlos. Eingeladen sind alle Betroffenen\, deren Angehörige\, Freunde und Begleiter. Tanzen ist sowohl im Rollstuhl als auch mit Gehhilfe oder einfach durch Mitschunkeln möglich – jeder tanzt hier auf seine Weise. \nTanzen ist reine Lebensfreude – dies gilt für Menschen mit und ohne Behinderung gleichermaßen. Im Wissen darum engagiert sich das Team des Tanzhaus Bonn seit vielen Jahren in seinen Herzensprojekten auch für Menschen mit Behinderung. Der am 8. März 2025 stattfindende ZNS-Tanzclub richtet sich an Menschen mit einer erworbenen Hirnschädigung\, die neben kognitiven Einschränkungen oft auch körperliche Beeinträchtigungen zur Folge hat. Das Tanzen zu mitreißender Musik ist eine großartige Möglichkeit\, den eigenen Körper wieder mit Freude und Spaß wahrzunehmen. \nDer ZNS-Tanzclub komplettiert das vielfältige Angebot der ZNS-Stiftung für Menschen mit Schädelhirntrauma und ihre Angehörigen. Die Kooperation des Tanzhauses Bonn und der ZNS-Stiftung geht auf eine Begegnung beim Marktplatz gute Geschäfte im Jahr 2017 zurück und wurde mit dem CSR-Preis der Bundesregierung ausgezeichnet. \nHerzlich eingeladen zu einer fröhlichen Tanzstunde sind alle Menschen mit Schädelhirntrauma\, deren Begleitung\, Familie\, Freunde und alle weiteren Interessierten. Getanzt werden kann übrigens auch bestens im Sitzen\, im Rollstuhl oder mit Gehhilfe: wer einfach ein bisschen zur Musik mitschunkelt\, tanzt bereits. \nZNS-Tanzclub\, 08.03.2025\, Tanzhaus Bonn\, Gartenstraße 102\, 53225 Bonn \n18:30 Uhr: Beginn eines zweistündigen Tanzevents für Menschen mit und ohne Beeinträchtigung unter Leitung von Timo Müller (Tanzhaus Bonn) \n20:30 Uhr: Ende und Beginn der öffentlichen Tanzparty im Tanzhaus Bonn \nBitte um formlose Anmeldung per E-Mail an info@zns-stiftung.de\, timo.mueller@tanzhaus-bonn.de oder telefonisch unter 0228 97845-0.
URL:https://kopfsache-magazin.de/termin/zns-tanzclub/
LOCATION:Tanzhaus Bonn\, Gartenstraße 102\, Bonn\, 53225\, Germany
ATTACH;FMTTYPE=image/jpeg:https://kopfsache-magazin.de/wp-content/uploads/2025/03/csm_Tanzclub_breit_4b2e55deae.jpg
ORGANIZER;CN="ZNS %E2%80%93 Hannelore Kohl Stiftung":MAILTO:info@hannelore-kohl-stiftung.de
END:VEVENT
BEGIN:VEVENT
DTSTART;VALUE=DATE:20250314
DTEND;VALUE=DATE:20250316
DTSTAMP:20260419T151410
CREATED:20240624T094147Z
LAST-MODIFIED:20240624T094147Z
UID:35501-1741910400-1742083199@kopfsache-magazin.de
SUMMARY:brainWEEK 2025
DESCRIPTION:3. Deutscher Hirntag\, Mitgliederversammlung\, 30 Jahre ceres/SHV Forum Gehirn
URL:https://kopfsache-magazin.de/termin/brainweek-2025/
ATTACH;FMTTYPE=image/jpeg:https://kopfsache-magazin.de/wp-content/uploads/2024/06/artificial-intelligence-4389372_1280.jpg
ORGANIZER;CN="SHV Forum Gehirn":MAILTO:info@shv-forum-gehirn.de
END:VEVENT
BEGIN:VEVENT
DTSTART;TZID=UTC:20250318T103000
DTEND;TZID=UTC:20250318T123000
DTSTAMP:20260419T151410
CREATED:20250305T080810Z
LAST-MODIFIED:20250305T080810Z
UID:36279-1742293800-1742301000@kopfsache-magazin.de
SUMMARY:ZNS Online-Treff Angehörige
DESCRIPTION:Es gibt noch einige freie Plätze bei dem ZNS Online-Treffen. \nAustausch: Was auf die Ohren. Hilfreiche Websites und Podcasts \nWie funktioniert es?\n•   Hier anmelden – Bitte alle Felder ausfüllen.\n•    Eine E-Mail mit dem Zugangslink wird zeitnah zugesandt.\n•    Über den Link kann an dem Termin teilgenommen werden. \nDas Angebot ist auch ohne technische Vorerfahrung nutzbar. Sollte dennoch Unterstützung benötigt werden\, hilft das Team der ZNS Hannelore Kohl Akademie gerne weiter.
URL:https://kopfsache-magazin.de/termin/zns-online-treff-angehoerige-2/
LOCATION:online
ATTACH;FMTTYPE=image/jpeg:https://kopfsache-magazin.de/wp-content/uploads/2025/03/crop-woman-with-coffee-browsing-laptop-scaled.jpg
ORGANIZER;CN="ZNS %E2%80%93 Hannelore Kohl Stiftung":MAILTO:info@hannelore-kohl-stiftung.de
END:VEVENT
BEGIN:VEVENT
DTSTART;TZID=UTC:20250328T080000
DTEND;TZID=UTC:20250328T170000
DTSTAMP:20260419T151410
CREATED:20250224T093404Z
LAST-MODIFIED:20250305T093515Z
UID:36236-1743148800-1743181200@kopfsache-magazin.de
SUMMARY:3. Deutscher Hirntag
DESCRIPTION:Der SHV – FORUM GEHIRN e.V. lädt am 28.März 2025 zum 3. Deutschen Hirntag nach Stuttgart ein. Die diesjährige Veranstaltung widmet sich einem drängenden Thema: der Ethik in der Medizin und der Politik. Experten aus Recht\, Selbsthilfe und Sozialmanagement diskutieren über aktuelle gesetzliche Entwicklungen und ihre ethischen Herausforderungen. \nEthik in der Medizin und Politik – In Verantwortung handeln\nDie jüngsten Reformen wie das Intensivpflege- und Rehabilitationsstärkungsgesetz (IPReG)\, die außerklinische Intensivpflege (AKI) und die Krankenhausreform haben weitreichende Folgen für Patienten und Angehörige. Sie bringen nicht nur strukturelle Veränderungen\, sondern auch existenzielle Fragen mit sich: Was bedeutet eine ethische Entscheidungsfindung in der Gesetzgebung? Welche Konsequenzen ergeben sich für schwer erkrankte Menschen und deren Angehörige? \nEine besondere Aufmerksamkeit gilt der Organspende-Debatte\, insbesondere der umstrittenen Widerspruchslösung. Angehörige berichten immer wieder von dem Druck\, der auf sie in Akutsituationen ausgeübt wird – selbst bei vorliegender Patientenverfügung. Dies führt unweigerlich zu einer zentralen ethischen Fragestellung: „Wann ist der Mensch tot?“ \nHochkarätige Expertenvorträge und Diskussionen\nDer 3. Hirntag bietet ein hochkarätiges Vortragsprogramm mit renommierten Fachleuten: \n\nKarl-Eugen Siegel (Vorsitzender SHV – FORUM GEHIRN e.V.): Einführung in die Thematik\nSebastian Lemme: „Gesetze und Ethik – Im Spannungsfeld politischer Entscheidungen“\nMartin Kristen: „Betreuungsrecht – Aktuelle Entwicklungen“\n(juristisch) Rainer Beckmann: „Wann ist der Mensch tot?“ – Eine kritische Analyse der gängigen Todesdefinitionen und Regelungen zur Organspende\n(juristisch) Rainer Beckmann: „Patientenverfügung: Selbstbestimmung bis zum Ende?“ – Ethische und rechtliche Herausforderungen in der Praxis\n\nDiskussionsrunden mit Fallbeispielen ermöglichen eine interaktive Auseinandersetzung mit diesen zentralen ethischen Fragestellungen. \nEinladung an Fachpublikum und Betroffene\nDie Veranstaltung richtet sich an Betroffene\, Angehörige sowie Fachpublikum aus Recht\, Selbsthilfe\, Politik\, Medizin\, Therapie\, Pflege\, Sozialdienst und Justiz. Ziel ist es\, gemeinsam Lösungen für die drängenden Herausforderungen in der medizinischen und politischen Ethik zu erarbeiten. \nWeitere Informationen finden Sie hier. \nIhre Anmeldung richten Sie bitte an: \nSHV-FORUM GEHIRN e.V.\nBahnhofplatz 6\n89518 Heidenheim\nTelefon: 07321 – 53 06 856\nE-Mail: info@shv-forum-gehirn.de
URL:https://kopfsache-magazin.de/termin/3-deutscher-hirntag/
LOCATION:Stuttgart\, Stuttgart\, Germany
ATTACH;FMTTYPE=image/png:https://kopfsache-magazin.de/wp-content/uploads/2025/02/Bildschirmfoto-2025-03-05-um-09.59.53.png
ORGANIZER;CN="SHV Forum Gehirn":MAILTO:info@shv-forum-gehirn.de
END:VEVENT
END:VCALENDAR