BEGIN:VCALENDAR
VERSION:2.0
PRODID:-//WordPress - ECPv6.15.20//NONSGML v1.0//EN
CALSCALE:GREGORIAN
METHOD:PUBLISH
X-ORIGINAL-URL:https://kopfsache-magazin.de
X-WR-CALDESC:Veranstaltungen für WordPress
REFRESH-INTERVAL;VALUE=DURATION:PT1H
X-Robots-Tag:noindex
X-PUBLISHED-TTL:PT1H
BEGIN:VTIMEZONE
TZID:UTC
BEGIN:STANDARD
TZOFFSETFROM:+0000
TZOFFSETTO:+0000
TZNAME:UTC
DTSTART:20240101T000000
END:STANDARD
END:VTIMEZONE
BEGIN:VEVENT
DTSTART;TZID=UTC:20250401T103000
DTEND;TZID=UTC:20250401T120000
DTSTAMP:20260419T132801
CREATED:20250326T081630Z
LAST-MODIFIED:20250326T105822Z
UID:36376-1743503400-1743508800@kopfsache-magazin.de
SUMMARY:ZNS Online-Treff Angehörige
DESCRIPTION:Es geht weiter mit den ZNS Online-Treffen zum Austauschen und Vernetzen für Angehörige von Menschen mit Schädel-Hirn-Traumata. \nTauschen Sie sich aus\nSprechen Sie mit anderen Betroffenen über Ihre Erfahrungen und erfahren Sie\, wie sie mit ähnlichen Herausforderungen umgehen. Gemeinsam werden Fragen geklärt wie: \n\nWie geht es anderen Betroffenen?\nWie und wo finde ich Entlastung?\n\nAngehörige und Betroffene:\nInformation: Gehirnerschütterung verstehen \nWie funktioniert es?\n•   Melde Sie sich zu Ihrem Wunschtermin hier an.\nAchten Sie bitte darauf\, dass alle Felder ausgefüllt sind.\n•    Sie erhalten zeitnah eine E-Mail mit dem Zugangslink.\n•    Darüber gelangen Sie an dem Termin direkt zu dem ZNS-Online-Treff. \nDas Angebot ist auch ohne technische Vorerfahrung nutzbar. Sollte dennoch Unterstützung benötigt werden\, hilft das Team der ZNS Hannelore Kohl Akademie gerne weiter.
URL:https://kopfsache-magazin.de/termin/zns-online-treff-angehoerige-3/
LOCATION:online
ATTACH;FMTTYPE=image/jpeg:https://kopfsache-magazin.de/wp-content/uploads/2025/03/online-meeting-young-urban-girl-asian-woman-talking-with-laptop-video-chat-gesturing-sitting-o-scaled.jpg
ORGANIZER;CN="ZNS %E2%80%93 Hannelore Kohl Stiftung":MAILTO:info@hannelore-kohl-stiftung.de
END:VEVENT
BEGIN:VEVENT
DTSTART;TZID=UTC:20250403T180000
DTEND;TZID=UTC:20250403T193000
DTSTAMP:20260419T132801
CREATED:20250319T092251Z
LAST-MODIFIED:20250319T092251Z
UID:36343-1743703200-1743708600@kopfsache-magazin.de
SUMMARY:Lesung und Podiumsdiskussion
DESCRIPTION:Lesung \nDer Eishockey-Profi Kevin Lötscher ist gerade 23 Jahre alt\, als er von einem Auto angefahren und dreissig Meter durch die Luft geschleudert wird. Bewusstlos und in Lebensgefahr bleibt er liegen. Er erleidet ein schweres Schädel-Hirn-Trauma\, muss einfachste Dinge wie Laufen oder Essen neu lernen. In «EISZEIT» erzählt er von seiner Zeit auf dem Eis\, aber auch von der kalten\, dunklen Zeit danach – und wie er aus dem Loch wieder herausfand. \nPodiumsdiskussion \nDiese Gesprächsrunde beleuchtet die sichtbaren und besonders die unsichtbaren Folgen einer Hirnverletzung aus verschiedenen Perspektiven. Wie erlebt beispielsweise ein Betroffener die psychischen Auswirkungen oder die Herausforderungen in der Partnerschaft? Welche Sichtweise hat eine Fachperson? Wie erleben Angehörige die Veränderungen? Gemeinsam werden Erfahrungen\, Tipps und Strategien diskutiert und geteilt.
URL:https://kopfsache-magazin.de/termin/lesung-und-podiumsdiskussion/
LOCATION:Paulus Akademie\, Pfingstweidstrasse 28\, Zürich\, 8005\, Switzerland
ATTACH;FMTTYPE=image/jpeg:https://kopfsache-magazin.de/wp-content/uploads/2025/03/book-library-with-open-textbook-scaled.jpg
ORGANIZER;CN="Fragile Suisse":MAILTO:webmaster@fragile.ch
END:VEVENT
BEGIN:VEVENT
DTSTART;TZID=UTC:20250408T150000
DTEND;TZID=UTC:20250408T183000
DTSTAMP:20260419T132801
CREATED:20250326T081742Z
LAST-MODIFIED:20250326T081742Z
UID:36379-1744124400-1744137000@kopfsache-magazin.de
SUMMARY:ZNS Online-Treff Angehörige
DESCRIPTION:Es geht weiter mit den ZNS Online-Treffen zum Austauschen und Vernetzen für Angehörige von Menschen mit Schädel-Hirn-Traumata. \nTauschen Sie sich aus\nSprichen Sie mit anderen Betroffenen über Ihre Erfahrungen und erfahren Sie\, wie sie mit ähnlichen Herausforderungen umgehen. Gemeinsam werden Fragen wie geklärt: \n\nWie geht es anderen Betroffenen?\nWie und wo finde ich Entlastung?\n\nAngehörige und Betroffene:\nInformation: Gehirnerschütterung verstehen \nWie funktioniert es?\n•   Melde Sie sich zu Ihrem Wunschtermin hier an.\nAchten Sie bitte darauf\, dass alle Felder ausgefüllt sind.\n•    Sie erhälten zeitnah eine E-Mail mit dem Zugangslink.\n•    Darüber gelangen Sie an dem Termin direkt zu dem ZNS-Online-Treff. \nDas Angebot ist auch ohne technische Vorerfahrung nutzbar. Sollte dennoch Unterstützung benötigt werden\, hilft das Team der ZNS Hannelore Kohl Akademie gerne weiter.
URL:https://kopfsache-magazin.de/termin/zns-online-treff-angehoerige-4/
LOCATION:online
ATTACH;FMTTYPE=image/jpeg:https://kopfsache-magazin.de/wp-content/uploads/2025/03/online-meeting-young-urban-girl-asian-woman-talking-with-laptop-video-chat-gesturing-sitting-o-scaled.jpg
ORGANIZER;CN="ZNS %E2%80%93 Hannelore Kohl Stiftung":MAILTO:info@hannelore-kohl-stiftung.de
END:VEVENT
BEGIN:VEVENT
DTSTART;VALUE=DATE:20250410
DTEND;VALUE=DATE:20250412
DTSTAMP:20260419T132801
CREATED:20250305T094550Z
LAST-MODIFIED:20250305T094550Z
UID:36284-1744243200-1744415999@kopfsache-magazin.de
SUMMARY:16. Nachsorgekongress
DESCRIPTION:Unter dem Titel: „Ich wollte es schaffen und keiner wollte mich scheitern lassen.“ Bestmögliche Teilhabe – auch für Menschen mit Schädelhirnverletzung wird AG Teilhabe\, Rehabilitation\, Nachsorge und Integration nach Schädelhirnverletzung vom 10. bis 11. April 2025 den 16. Nachsorgekongress im Tagungszentrum der DGUV in Dresden veranstalten. \nDie AG verspricht bereits ein spannendes Programm. Es wird eine gute Mischung von alt bewährten Formaten und neuen Elementen geben. Die Veranstaltung wird begleitet von Graphic Recording. Am 11. April werden wir zudem den Förderpreis und das Doktoranden-Stipendium der ZNS-Stiftung verliehen.
URL:https://kopfsache-magazin.de/termin/16-nachsorgekongress/
LOCATION:DGUV Congress\, Königsbrücker Landstraße 2\, Dresden\, 01109\, Germany
ATTACH;FMTTYPE=image/jpeg:https://kopfsache-magazin.de/wp-content/uploads/2025/03/DSC_3620-scaled.jpg
ORGANIZER;CN="ZNS %E2%80%93 Hannelore Kohl Stiftung":MAILTO:info@hannelore-kohl-stiftung.de
END:VEVENT
END:VCALENDAR