BEGIN:VCALENDAR
VERSION:2.0
PRODID:-//WordPress - ECPv6.15.20//NONSGML v1.0//EN
CALSCALE:GREGORIAN
METHOD:PUBLISH
X-WR-CALNAME:WordPress
X-ORIGINAL-URL:https://kopfsache-magazin.de
X-WR-CALDESC:Veranstaltungen für WordPress
REFRESH-INTERVAL;VALUE=DURATION:PT1H
X-Robots-Tag:noindex
X-PUBLISHED-TTL:PT1H
BEGIN:VTIMEZONE
TZID:UTC
BEGIN:STANDARD
TZOFFSETFROM:+0000
TZOFFSETTO:+0000
TZNAME:UTC
DTSTART:20240101T000000
END:STANDARD
END:VTIMEZONE
BEGIN:VEVENT
DTSTART;VALUE=DATE:20250904
DTEND;VALUE=DATE:20250907
DTSTAMP:20260420T013339
CREATED:20250722T083235Z
LAST-MODIFIED:20250730T103950Z
UID:36905-1756944000-1757203199@kopfsache-magazin.de
SUMMARY:Deutscher Schlaganfall­­­kongress DSG25
DESCRIPTION:Mehr als 700 Schlaganfallexpertinnen und -experten werden zum ersten deutschen Schlaganfallkongress nach Berlin reisen! Hervorragend! Ja\, das wird eine gute Premiere werden. Noch sind nicht alle Tickets vergriffen. \n„Ein Highlight möchten wir heute bereits verraten: Zur Eröffnungsveranstaltung am Donnerstag\, den 4. September\, dürfen Sie sich auf einen Festvortrag des von uns allseits geschätzten und weltweit wohl am meisten zitierten Neurologen und Schlaganfallforschers freuen. „The Lancet“ erklärte vor einigen Jahren die von ihm federführend betreute Schlaganfall-Studie zur wichtigsten medizinischen Publikation des Jahres. Und zwar weltweit. Richtig\, wir sprechen von ECASS 3 und Professor Dr. Dr. Werner Hacke! Unser verehrter Kollege wird unter dem Titel „Good Times – bad times: Der Weg zur Therapie schwerer Ischämischer Schlaganfälle“ einige Gedanken mit uns teilen\, wie auch ein wenig Musik hierzu auflegen. Und nein\, wir kennen Werner Hacke – das wird Hardcore Metal und keine Klassik.“
URL:https://kopfsache-magazin.de/termin/deutscher-schlaganfallkongress-dsg25/
LOCATION:Henry Ford Building\, Garystraße 35\, Berlin\, 14195\, Germany
ATTACH;FMTTYPE=image/jpeg:https://kopfsache-magazin.de/wp-content/uploads/2025/07/mannliche-medizinische-figur-mit-hervorgehobener-vorderseite-des-gehirns-scaled.jpg
ORGANIZER;CN="Deutsche Schlaganfall-Gesellschaft (DSG) e.V.":MAILTO:info@dsg-berlin.org
END:VEVENT
BEGIN:VEVENT
DTSTART;TZID=UTC:20250914T150000
DTEND;TZID=UTC:20250914T180000
DTSTAMP:20260420T013339
CREATED:20250218T161256Z
LAST-MODIFIED:20250218T161256Z
UID:36211-1757862000-1757872800@kopfsache-magazin.de
SUMMARY:Lumia Stiftung lädt zum Familientreffen
DESCRIPTION:Die Lumia Stiftung lädt auch im Jahr ihres 25-jährigen Jubiläums wieder zum Familientreffen ein. Alle Familien mit Kindern im Alter von 0 bis 25 Jahren\, die eine schwere Hirnschädigung erlitten haben\, sind herzlich eingeladen. \nFamilien sowie Freundinnen und Freunde und Bezugspersonen sind natürlich auch gerne willkommen\, sich kennenzulernen oder wiederzusehen\, sich auszutauschen und einen netten Nachmittag gemeinsam zu verbringen. \nDas Familientreffen findet am 14. September 2025 in der Zeit von 15 bis 18 Uhr in Berlin in der Villa Donnersmarck statt. \nBitte melden Sie per E-Mail oder telefonisch an. \nLumia Stiftung\ninfo@lumiastiftung.de\n0511/70031744
URL:https://kopfsache-magazin.de/termin/lumia-stiftung-laedt-zum-familientreffen/
LOCATION:Berlin\, Deutschland
ATTACH;FMTTYPE=image/jpeg:https://kopfsache-magazin.de/wp-content/uploads/2025/02/full-shot-happy-family-outdoors-scaled.jpg
ORGANIZER;CN="Lumia Stiftung":MAILTO:info@lumiastiftung.de
END:VEVENT
BEGIN:VEVENT
DTSTART;VALUE=DATE:20250917
DTEND;VALUE=DATE:20250921
DTSTAMP:20260420T013339
CREATED:20250218T152440Z
LAST-MODIFIED:20250218T152440Z
UID:36204-1758067200-1758412799@kopfsache-magazin.de
SUMMARY:RehaCare 2025
DESCRIPTION:Es lohnt sich\, vom 17. – 20. September 2025 in Düsseldorf dabei zu sein: Die REHACARE International ist die führende Messe für Rehabilitation\, Prävention\, Inklusion und Pflege. Jedes Jahr treffen sich Expertinnen und Experten\, Fachleute und Besucherinnen und Besucher aus Europa und Übersee in Düsseldorf\, um die neuesten Entwicklungen und Trends im Bereich der Mobilität\, barrierefreien Wohn- und Arbeitsgestaltung\, sowie Hilfsmittel und Technologien für Menschen mit Behinderung zu präsentieren und zu erleben. \n  \n  \nFoto: Messe Düsseldorf / ctillmann
URL:https://kopfsache-magazin.de/termin/rehacare-2025/
LOCATION:Messe Düsseldorf\, Stockumer Kirchstraße 61\, Düsseldorf\, 40474\, Germany
ATTACH;FMTTYPE=image/jpeg:https://kopfsache-magazin.de/wp-content/uploads/2025/02/Rehacare24_MT54968-scaled.jpg
ORGANIZER;CN="Messe D%C3%BCsseldorf GmbH":MAILTO:info@messe-duesseldorf.de
END:VEVENT
BEGIN:VEVENT
DTSTART;TZID=UTC:20250920T100000
DTEND;TZID=UTC:20250920T160000
DTSTAMP:20260420T013339
CREATED:20250903T115637Z
LAST-MODIFIED:20250903T115637Z
UID:37024-1758362400-1758384000@kopfsache-magazin.de
SUMMARY:Fachtagung des LIS e.V. 2025
DESCRIPTION:Langzeitüberleben im und nach dem Locked-in-Syndrom \nhuman head with puzzle concept background design vector\nIn den letzten Jahrzehnten ist in der Medizin ein rasanter Fortschritt zu beobachten. Für diesen lässt sich ein gutes Beispiel angeben: In einer Veröffentlichung aus den achtziger Jahren des letzten Jahrhunderts finden wir „Weltweit können nur 10 Patienten beobachtet werden\, die einen schweren Schlaganfall mit Locked-in-Syndrom länger als ein Jahr überleben.“ Vierzig Jahre später gibt es alleine in dem Verein „LIS – Locked-In-Syndrom e.V.“ circa 50 Langzeitüberlebende. Die genaue Anzahl in Deutschland und weltweit kennt niemand. \nDie Intensivmedizin erzeugt immer mehr Überlebende – was passiert mit ihnen? Überlebende sind in der Regel Schwerstgeschädigte. Manche Betroffene können nur passiv mi Rollstuhl bewegt werden\, können nicht sprechen\, nicht schlucken und müssen beatmet werden. Welche Schwierigkeiten sind die Folge? Wie kommen Menschen mit derartigen Einschränkungen zurecht? Welche speziellen Bedürfnisse resultieren daraus? Die Tagung versucht den Blick auf diesen Personenkreis uz fokussieren. \nAnmeldeschluss ist am 10.09.2025 an pantkelis@arcor.de.
URL:https://kopfsache-magazin.de/termin/fachtagung-des-lis-e-v-2025/
LOCATION:Evangelisches Krankenhaus Königin Elisabeth Herzberge\, Herzbergstraße 79\, Berlin\, 10365\, Germany
ATTACH;FMTTYPE=image/jpeg:https://kopfsache-magazin.de/wp-content/uploads/2025/09/22eee9fd-8cbd-4bff-81ce-687885bc3399._newsjpg.jpg
ORGANIZER;CN="LIS e.V.":MAILTO:pantkelis@arcor.de
END:VEVENT
BEGIN:VEVENT
DTSTART;TZID=UTC:20250925T080000
DTEND;TZID=UTC:20250925T170000
DTSTAMP:20260420T013339
CREATED:20250521T092516Z
LAST-MODIFIED:20250521T092516Z
UID:36675-1758787200-1758819600@kopfsache-magazin.de
SUMMARY:„Ich will! Ich kann! Ich darf!“
DESCRIPTION:Erfolgreiche Teilhabe nach erfahrener Hirnschädigung ist kein Zufall\nDonnerstag\, 25. September 2025\nKreishaus Bergheim \nMenschen mit erfahrenen Hirnschädigung begegnen vielen Herausforderungen – medizinisch\, sozial\, persönlich und gesellschaftlich. Auf unserem Fachtag wollen wir gemeinsam mit Fachkräften\, Angehörigen und Betroffenen erarbeiten\, was gelingende Teilhabe möglich macht. \n„Bitte merken Sie sich den Termin bereits jetzt vor. Eine ausführliche Einladung mit Programm und Anmeldemöglichkeit folgt in Kürze.“
URL:https://kopfsache-magazin.de/termin/ich-will-ich-kann-ich-darf/
ATTACH;FMTTYPE=image/png:https://kopfsache-magazin.de/wp-content/uploads/2025/05/Bildschirmfoto-2025-05-21-um-11.24.38.png
END:VEVENT
END:VCALENDAR