BEGIN:VCALENDAR
VERSION:2.0
PRODID:-//WordPress - ECPv6.15.20//NONSGML v1.0//EN
CALSCALE:GREGORIAN
METHOD:PUBLISH
X-WR-CALNAME:WordPress
X-ORIGINAL-URL:https://kopfsache-magazin.de
X-WR-CALDESC:Veranstaltungen für WordPress
REFRESH-INTERVAL;VALUE=DURATION:PT1H
X-Robots-Tag:noindex
X-PUBLISHED-TTL:PT1H
BEGIN:VTIMEZONE
TZID:UTC
BEGIN:STANDARD
TZOFFSETFROM:+0000
TZOFFSETTO:+0000
TZNAME:UTC
DTSTART:20250101T000000
END:STANDARD
END:VTIMEZONE
BEGIN:VEVENT
DTSTART;VALUE=DATE:20260910
DTEND;VALUE=DATE:20260913
DTSTAMP:20260420T001320
CREATED:20260127T174443Z
LAST-MODIFIED:20260127T174443Z
UID:37317-1788998400-1789257599@kopfsache-magazin.de
SUMMARY:Deutscher Schlaganfall­­­kongress (DSG26)
DESCRIPTION:Das Programm wird natürlich die ganze Schlaganfallversorgung in ihrer ganzen Breite abbilden – Prävention\, präklinische und akutklinische Versorgung\, die Frührehabilitation und insbesondere auch zu Themen der systematischen Nachsorge.
URL:https://kopfsache-magazin.de/termin/deutscher-schlaganfallkongress-dsg26/
LOCATION:Henry-Ford-Bau\, Garystraße 35\, Berlin\, 14195\, Germany
ATTACH;FMTTYPE=image/jpeg:https://kopfsache-magazin.de/wp-content/uploads/2025/10/4429_news.jpg
ORGANIZER;CN="Deutsche Schlaganfall-Gesellschaft (DSG) e.V.":MAILTO:info@dsg-berlin.org
END:VEVENT
BEGIN:VEVENT
DTSTART;VALUE=DATE:20260923
DTEND;VALUE=DATE:20260927
DTSTAMP:20260420T001320
CREATED:20260311T090357Z
LAST-MODIFIED:20260311T090357Z
UID:37469-1790121600-1790467199@kopfsache-magazin.de
SUMMARY:RehaCare 2026
DESCRIPTION:Der Hotspot für Innovation\, Austausch und Teilhabe\nDie REHACARE ist der zentrale Treffpunkt der internationalen Community für ein selbstbestimmtes Leben. Hier präsentieren Ausstellerinnen und Austeller aus aller Welt neueste Produkte\, Dienstleistungen und Innovationen\, die den Alltag erleichtern und Teilhabe ermöglichen. \nAls führende Fachmesse setzt die REHACARE vom 23. – 26. September 2026 Maßstäbe für Zukunftsthemen rund um Rehabilitation und Inklusion – mit der einzigartigen Kombination aus hochkarätiger Fachmesse\, praxisnahen Foren und inspirierenden Begegnungen.
URL:https://kopfsache-magazin.de/termin/rehacare-2026/
LOCATION:Messe Düsseldorf\, Stockumer Kirchstraße 61\, Düsseldorf\, 40474\, Germany
ATTACH;FMTTYPE=image/jpeg:https://kopfsache-magazin.de/wp-content/uploads/2025/09/Rehacare25_MK6699.jpg
ORGANIZER;CN="Messe D%C3%BCsseldorf GmbH":MAILTO:info@messe-duesseldorf.de
END:VEVENT
BEGIN:VEVENT
DTSTART;VALUE=DATE:20260923
DTEND;VALUE=DATE:20260927
DTSTAMP:20260420T001320
CREATED:20260401T120339Z
LAST-MODIFIED:20260401T120339Z
UID:37545-1790121600-1790467199@kopfsache-magazin.de
SUMMARY:RehaCare 2026
DESCRIPTION:Der Hotspot für Innovation\, Austausch und Teilhabe\nDie REHACARE ist der zentrale Treffpunkt der internationalen Community für ein selbstbestimmtes Leben. Hier präsentieren Ausstellerinnen und Austeller aus aller Welt neueste Produkte\, Dienstleistungen und Innovationen\, die den Alltag erleichtern und Teilhabe ermöglichen. \nAls führende Fachmesse setzt die REHACARE vom 23. – 26. September 2026 Maßstäbe für Zukunftsthemen rund um Rehabilitation und Inklusion – mit der einzigartigen Kombination aus hochkarätiger Fachmesse\, praxisnahen Foren und inspirierenden Begegnungen.
URL:https://kopfsache-magazin.de/termin/rehacare-2026-2/
LOCATION:Messe Düsseldorf\, Stockumer Kirchstraße 61\, Düsseldorf\, 40474\, Germany
ATTACH;FMTTYPE=image/jpeg:https://kopfsache-magazin.de/wp-content/uploads/2025/02/Rehacare24_MT54968-scaled.jpg
ORGANIZER;CN="Messe D%C3%BCsseldorf GmbH":MAILTO:info@messe-duesseldorf.de
END:VEVENT
END:VCALENDAR