BEGIN:VCALENDAR
VERSION:2.0
PRODID:-//WordPress - ECPv6.15.20//NONSGML v1.0//EN
CALSCALE:GREGORIAN
METHOD:PUBLISH
X-WR-CALNAME:WordPress
X-ORIGINAL-URL:https://kopfsache-magazin.de
X-WR-CALDESC:Veranstaltungen für WordPress
REFRESH-INTERVAL;VALUE=DURATION:PT1H
X-Robots-Tag:noindex
X-PUBLISHED-TTL:PT1H
BEGIN:VTIMEZONE
TZID:UTC
BEGIN:STANDARD
TZOFFSETFROM:+0000
TZOFFSETTO:+0000
TZNAME:UTC
DTSTART:20250101T000000
END:STANDARD
END:VTIMEZONE
BEGIN:VEVENT
DTSTART;TZID=UTC:20261008T080000
DTEND;TZID=UTC:20261008T170000
DTSTAMP:20260420T052801
CREATED:20260310T174353Z
LAST-MODIFIED:20260310T174353Z
UID:37441-1791446400-1791478800@kopfsache-magazin.de
SUMMARY:Digital dabei. Teil III
DESCRIPTION:Digitale Technik kann den Alltag leichter machen – gerade nach einem Schädelhirntrauma. Doch oft wirkt alles kompliziert: Apps\, Sprachassistenten\, künstliche Intelligenz. In diesem Seminar entdeckst Du\, wie digitale Helfer Dich unterstützen können – Schritt für Schritt und ohne Vorwissen. Wir probieren Funktionen direkt aus – vom Planen von Terminen bis zum Erinnern an Medikamente. Du bekommst einfache Schritt-für-Schritt-Anleitungen und Tipps zur sicheren Nutzung\, z. B. zu Datenschutz und Barrierefreiheit. Du bestimmst das Tempo; kurze Pausen und klare Wiederholungen sind fest eingeplant. \nDas erwartet Dich: \n\nEinfache Apps für Alltag\, Struktur und Erinnerungen kennenlernen.\nDigitale Assistenten wie Siri oder Alexa praktisch erleben.\nKI wie ChatGPT ausprobieren – Texte vereinfachen\, Einkaufslisten erstellen und viel\nTipps für Datenschutz und den sicheren Umgang mit digitalen Helfern.\n\nJetzt anmelden!
URL:https://kopfsache-magazin.de/termin/digital-dabei-teil-iii/
LOCATION:online
ATTACH;FMTTYPE=image/jpeg:https://kopfsache-magazin.de/wp-content/uploads/2026/03/woman-touching-smart-technology-holographic-interface-scaled.jpg
ORGANIZER;CN="ZNS Akademie":MAILTO:info@zns-akademie.de
END:VEVENT
BEGIN:VEVENT
DTSTART;TZID=UTC:20261015T110000
DTEND;TZID=UTC:20261015T120000
DTSTAMP:20260420T052801
CREATED:20260327T131349Z
LAST-MODIFIED:20260328T124017Z
UID:37516-1792062000-1792065600@kopfsache-magazin.de
SUMMARY:Infoveranstaltung ZNS-Akademie
DESCRIPTION:Sie möchten in Ruhe über die Angebote der ZNS-Akademie informieren\, ohne sich festlegen zu müssen? Oder suchen Sie als Fachperson einen guten Überblick\, um Angebote gezielt an Klientinnen und Klienten weiterempfehlen zu können? \nIn dem 60-minütigen Online-Seminaren bekommen Sie einen transparenten Überblick über die Seminare und Events. Sie erfahren\, für wen welche Angebote gedacht sind\, wie die Teilnahme abläuft und was Sie inhaltlich und organisatorisch erwartet. „Wir zeigen Dir Schritt für Schritt\, wie ein typischer Seminartag gestaltet ist – inklusive Pausenstruktur\, Tempo und Möglichkeiten\, sich einzubringen oder auch einfach nur zuzuhören.“ \nDabei geht es vor allem darum\, Unsicherheiten abzubauen: Wie läuft das Ankommen? Muss ich etwas erzählen? Was ist\, wenn ich schnell erschöpft bin? Wie ist der Rahmen für Angehörige und Betroffene? Sie bekommen klare Antworten und Sie können in einem sicheren Rahmen Fragen stellen. \nAm Ende wissen Sie\, welches Angebot zu Ihnen (oder Ihrem Klientel) passt – und wie Sie sich gut vorbereitet anmelden können. \nFür alle Teilnehmenden gilt:\n• Sie müssen nichts erzählen\n• Sie müssen nichts entscheiden \nFür Fachleute gilt:\n• Sie erhalten einen kompakten Überblick über Inhalte\, Zielgruppen und Rahmenbedingungen\n• Sie können einschätzen\, welche Angebote für welchen Klient passend sind \nDie Infoveranstaltung ist bewusst niedrigschwellig gestaltet. \nTermine zur Auswahl:\n• 16.04.2026:  11:00 – 12:00 Uhr\n• 16.07.2026:  15:00 – 16:00 Uhr\n• 15.10.2026:  11:00 – 12:00 Uhr \nHier können Sie sich jederzeit anmelden.
URL:https://kopfsache-magazin.de/termin/infoveranstaltung-zns-akademie-3/
LOCATION:online
ATTACH;FMTTYPE=image/jpeg:https://kopfsache-magazin.de/wp-content/uploads/2026/03/19.-Koelner-Heimbeatmungsworkshop-Kopie.jpg
ORGANIZER;CN="ZNS Akademie":MAILTO:info@zns-akademie.de
END:VEVENT
END:VCALENDAR