BEGIN:VCALENDAR
VERSION:2.0
PRODID:-//WordPress - ECPv6.15.20//NONSGML v1.0//EN
CALSCALE:GREGORIAN
METHOD:PUBLISH
X-ORIGINAL-URL:https://kopfsache-magazin.de
X-WR-CALDESC:Veranstaltungen für WordPress
REFRESH-INTERVAL;VALUE=DURATION:PT1H
X-Robots-Tag:noindex
X-PUBLISHED-TTL:PT1H
BEGIN:VTIMEZONE
TZID:UTC
BEGIN:STANDARD
TZOFFSETFROM:+0000
TZOFFSETTO:+0000
TZNAME:UTC
DTSTART:20250101T000000
END:STANDARD
END:VTIMEZONE
BEGIN:VEVENT
DTSTART;VALUE=DATE:20260205
DTEND;VALUE=DATE:20260208
DTSTAMP:20260420T072155
CREATED:20260126T130355Z
LAST-MODIFIED:20260126T130355Z
UID:37308-1770249600-1770508799@kopfsache-magazin.de
SUMMARY:ANIM 2026 – Arbeitstagung NeuroIntensivMedizin 43. Jahrestagung
DESCRIPTION:“Liebe Kolleginnen und Kollegen aller Berufsgruppen\, die sich für die Neurointensivmedizin interessieren\,\nliebe Studierenden und Auszubildenden\,\nliebe Freunde und Gäste unserer Tagung\, \nes ist mir eine ganz besondere Freude\, Sie zur 40. Jubiläumstagung der ANIM 2026 nach Dortmund einzuladen. \nDortmund ist ein wichtiger Teil der Metropolregion Ruhr\, die nicht nur das geographische Herz von Deutschland ist\, sondern wie kaum eine andere Region aufgrund gravierender wirtschaftlicher Veränderungen eine Transformation um 180 Grad\, von der ehemaligen Montan- und Schwerindustrie hin zu einem Standort für Hightech-Industrie und Dienstleistungen\, durchlaufen hat. Wo also wäre unsere Jahrestagung besser aufgehoben…“ \nGrußwort Professor Dr. Oliver Müller (Tagungsleitung ANIM 2026)
URL:https://kopfsache-magazin.de/termin/anim-2026-arbeitstagung-neurointensivmedizin-43-jahrestagung/
LOCATION:Messe Dortmund\, Rheinlanddamm 200\, Dortmund\, 44139\, Germany
ATTACH;FMTTYPE=image/jpeg:https://kopfsache-magazin.de/wp-content/uploads/2026/01/doctors-using-transparent-tablet-with-hologram-medical-technology-scaled.jpg
END:VEVENT
END:VCALENDAR