BEGIN:VCALENDAR
VERSION:2.0
PRODID:-//WordPress - ECPv6.15.20//NONSGML v1.0//EN
CALSCALE:GREGORIAN
METHOD:PUBLISH
X-WR-CALNAME:WordPress
X-ORIGINAL-URL:https://kopfsache-magazin.de
X-WR-CALDESC:Veranstaltungen für WordPress
REFRESH-INTERVAL;VALUE=DURATION:PT1H
X-Robots-Tag:noindex
X-PUBLISHED-TTL:PT1H
BEGIN:VTIMEZONE
TZID:UTC
BEGIN:STANDARD
TZOFFSETFROM:+0000
TZOFFSETTO:+0000
TZNAME:UTC
DTSTART:20250101T000000
END:STANDARD
END:VTIMEZONE
BEGIN:VEVENT
DTSTART;VALUE=DATE:20260623
DTEND;VALUE=DATE:20260626
DTSTAMP:20260419T220006
CREATED:20260310T124529Z
LAST-MODIFIED:20260310T124529Z
UID:37427-1782172800-1782431999@kopfsache-magazin.de
SUMMARY:Teilhabe erleben
DESCRIPTION:Entdecke Leipzig – lebendig\, barrierefrei und gemeinsam! In diesem Seminar tauchst Du in die spannende Welt der Stadterkundung ein. Gemeinsam plant Ihr eine individuelle Tour durch Leipzig – mit kreativen Ideen und praktischen Tipps für barrierefreies Reisen. Dabei geht es nicht nur um Wege und Orte\, sondern auch um Teilhabe\, Selbstbestimmung und Freude am Unterwegssein. \nDas erwartet Dich: \n\nDu erhältst Tipps zur Planung barrierefreier Touren.\nDu entdeckst\, worauf es unterwegs ankommt.\nDu lernst\, wo Du hilfreiche Informationen findest.\nDu tauschst Dich mit anderen über Erfahrungen aus\n\nJetzt anmelden!
URL:https://kopfsache-magazin.de/termin/teilhabe-erleben/
LOCATION:Leipzig\, Leipzig\, Germany
ATTACH;FMTTYPE=image/jpeg:https://kopfsache-magazin.de/wp-content/uploads/2026/03/csm_Teilhabe_erleben_breit_a4b1264c39.jpg
ORGANIZER;CN="ZNS Akademie":MAILTO:info@zns-akademie.de
END:VEVENT
END:VCALENDAR