BEGIN:VCALENDAR
VERSION:2.0
PRODID:-//WordPress - ECPv6.15.20//NONSGML v1.0//EN
CALSCALE:GREGORIAN
METHOD:PUBLISH
X-WR-CALNAME:WordPress
X-ORIGINAL-URL:https://kopfsache-magazin.de
X-WR-CALDESC:Veranstaltungen für WordPress
REFRESH-INTERVAL;VALUE=DURATION:PT1H
X-Robots-Tag:noindex
X-PUBLISHED-TTL:PT1H
BEGIN:VTIMEZONE
TZID:UTC
BEGIN:STANDARD
TZOFFSETFROM:+0000
TZOFFSETTO:+0000
TZNAME:UTC
DTSTART:20250101T000000
END:STANDARD
END:VTIMEZONE
BEGIN:VEVENT
DTSTART;TZID=UTC:20260310T080000
DTEND;TZID=UTC:20260310T170000
DTSTAMP:20260419T170907
CREATED:20260310T175439Z
LAST-MODIFIED:20260310T175439Z
UID:37446-1773129600-1773162000@kopfsache-magazin.de
SUMMARY:Gut und günstig Kochen
DESCRIPTION:Trotz Einschränkungen lecker kochen? Das geht! Vielleicht fehlt Dir manchmal die Energie oder der Zugang zu gesunden Lebensmitteln. Gemeinsam in der Kochbar Berlin wird geschnippelt\, gerührt und genossen. Dabei knüpfst Du neue Kontakte und entdeckst den Kochspaß neu – Schritt für Schritt\, in Deinem Tempo. \nDas erwartet Dich: \n\nDu lernst einfache und gesunde Gerichte zuzubereiten.\nDu nutzt kleine Hilfsmittel\, die Dir die Arbeit erleichtern.\nDu entdeckst\, wie Kochen wieder Freude macht.\nDu genießt Mahlzeiten in geselliger Runde.\n\nJetzt anmelden!
URL:https://kopfsache-magazin.de/termin/gut-und-guenstig-kochen-2/
LOCATION:Kochbar Berlin\, Joachim-Karnatz-Allee 45\, Berlin\, 10557\, Germany
ATTACH;FMTTYPE=image/jpeg:https://kopfsache-magazin.de/wp-content/uploads/2026/03/csm_ZNS_Kochclub_breit_eb71b51567.jpg
ORGANIZER;CN="ZNS Akademie":MAILTO:info@zns-akademie.de
END:VEVENT
BEGIN:VEVENT
DTSTART;TZID=UTC:20260310T080000
DTEND;TZID=UTC:20260310T170000
DTSTAMP:20260419T170907
CREATED:20260310T183308Z
LAST-MODIFIED:20260310T183345Z
UID:37451-1773129600-1773162000@kopfsache-magazin.de
SUMMARY:ZNS-Tanzclub
DESCRIPTION:Tanzen verbindet – Musik\, Bewegung und gute Laune! Du möchtest (wieder) tanzen und gemeinsam mit anderen Freude erleben? Unter professioneller Anleitung lernst Du neue Schritte und genießt in einer inklusiven Gruppe Musik\, Bewegung und Gemeinschaft. Vorkenntnisse sind nicht nötig – jede und jeder kann im eigenen Tempo mittanzen. \nDas erwartet Dich: \n\nDu probierst verschiedene Tanzschritte aus.\nDu spürst Freude an Musik und Bewegung.\nDu bist Teil einer offenen Gemeinschaft.\nIm Anschluss kannst Du bei der öffentlichen Tanzparty weitermachen.\n\nJetzt anmelden! \n  \n  \nFoto: @ZNZ Akademie
URL:https://kopfsache-magazin.de/termin/zns-tanzclub-3/
ATTACH;FMTTYPE=image/jpeg:https://kopfsache-magazin.de/wp-content/uploads/2026/03/csm_ZNS-Tanzclub_breit_67cc9ed237.jpg
ORGANIZER;CN="ZNS Akademie":MAILTO:info@zns-akademie.de
END:VEVENT
BEGIN:VEVENT
DTSTART;TZID=UTC:20260314T080000
DTEND;TZID=UTC:20260314T170000
DTSTAMP:20260419T170907
CREATED:20260212T085251Z
LAST-MODIFIED:20260212T085251Z
UID:37360-1773475200-1773507600@kopfsache-magazin.de
SUMMARY:ZNS Kochclub
DESCRIPTION:Trotz Einschränkungen lecker kochen? Das geht! Vielleicht fehlt Dir manchmal die Energie oder der Zugang zu gesunden Lebensmitteln. Gemeinsam in der Kochbar Berlin wird geschnippelt\, gerührt und genossen. Dabei knüpfst Du neue Kontakte und entdeckst den Kochspaß neu – Schritt für Schritt\, in Deinem Tempo. \nDas erwartet Dich: \n\nDu lernst einfache und gesunde Gerichte zuzubereiten.\nDu nutzt kleine Hilfsmittel\, die Dir die Arbeit erleichtern.\nDu entdeckst\, wie Kochen wieder Freude macht.\nDu genießt Mahlzeiten in geselliger Runde.\n\n  \n  \nDen Flyer mit allen Informationen finden Sie hier.\nQuelle: ZNS-Akademie
URL:https://kopfsache-magazin.de/termin/zns-kochclub/
LOCATION:Neuronales Netzwerk Berlin\, Wittestraße 30J\, Berlin\, 13509\, Germany
ATTACH;FMTTYPE=image/jpeg:https://kopfsache-magazin.de/wp-content/uploads/2026/02/top-view-cropped-hands-senior-cook-unrecognizable-cutting-carrot-cooking-vegetable-stew-scaled.jpg
ORGANIZER;CN="Neuronales Netzwerk":MAILTO:info@neuronales-netzwerk.org
END:VEVENT
BEGIN:VEVENT
DTSTART;TZID=UTC:20260314T080000
DTEND;TZID=UTC:20260314T170000
DTSTAMP:20260419T170907
CREATED:20260310T175050Z
LAST-MODIFIED:20260310T175050Z
UID:37443-1773475200-1773507600@kopfsache-magazin.de
SUMMARY:Gut und günstig Kochen
DESCRIPTION:Trotz Einschränkungen lecker kochen? Das geht! Vielleicht fehlt Dir manchmal die Energie oder der Zugang zu gesunden Lebensmitteln. Gemeinsam in der Kochbar Berlin wird geschnippelt\, gerührt und genossen. Dabei knüpfst Du neue Kontakte und entdeckst den Kochspaß neu – Schritt für Schritt\, in Deinem Tempo. \nDas erwartet Dich: \n\nDu lernst einfache und gesunde Gerichte zuzubereiten.\nDu nutzt kleine Hilfsmittel\, die Dir die Arbeit erleichtern.\nDu entdeckst\, wie Kochen wieder Freude macht.\nDu genießt Mahlzeiten in geselliger Runde.\n\nJetzt anmelden!
URL:https://kopfsache-magazin.de/termin/gut-und-guenstig-kochen/
LOCATION:Kochbar Berlin\, Joachim-Karnatz-Allee 45\, Berlin\, 10557\, Germany
ATTACH;FMTTYPE=image/jpeg:https://kopfsache-magazin.de/wp-content/uploads/2026/03/csm_ZNS_Kochclub_breit_eb71b51567.jpg
ORGANIZER;CN="ZNS Akademie":MAILTO:info@zns-akademie.de
END:VEVENT
BEGIN:VEVENT
DTSTART;TZID=UTC:20260318T103000
DTEND;TZID=UTC:20260318T123000
DTSTAMP:20260419T170907
CREATED:20260226T102447Z
LAST-MODIFIED:20260226T102447Z
UID:37390-1773829800-1773837000@kopfsache-magazin.de
SUMMARY:ZNS-Online Treffen
DESCRIPTION:Die Angebote der ZNS Online-Treffen zum Austauschen und Vernetzen im März gehen weiter: \nFür Angehörige:\nAustausch: Bei mir bleiben – trotz Erwartungen und Urteilen \nWie melden Sie sich an? \nMelden Sie sich zu Ihrem Wunschtermin hier an.\nSie erhalten zeitnah eine E-Mail mit dem Zugangslink.\nDarüber gelangen Sie an dem Termin direkt zu dem ZNS-Online-Treff. \n  \nQuelle: ZNS-Akademie
URL:https://kopfsache-magazin.de/termin/zns-online-treffen-2/
LOCATION:online
ATTACH;FMTTYPE=image/jpeg:https://kopfsache-magazin.de/wp-content/uploads/2026/02/woman-home-having-videocall-with-family-scaled.jpg
ORGANIZER;CN="ZNS %E2%80%93 Hannelore Kohl Stiftung":MAILTO:info@hannelore-kohl-stiftung.de
END:VEVENT
BEGIN:VEVENT
DTSTART;TZID=UTC:20260325T150000
DTEND;TZID=UTC:20260325T160000
DTSTAMP:20260419T170907
CREATED:20260226T103726Z
LAST-MODIFIED:20260226T103726Z
UID:37393-1774450800-1774454400@kopfsache-magazin.de
SUMMARY:ZNS Online-Treffen
DESCRIPTION:Die Angebote der ZNS Online-Treffen zum Austauschen und Vernetzen im März gehen weiter: \nFür Angehörige und Betroffene:\nAktion: Entspannung – Mittwoch\, 25.03.2026 von 15:00 – 16:00 Uhr \nWie melden Sie sich an? \nMelden Sie sich zu Ihrem Wunschtermin hier an.\nSie erhalten zeitnah eine E-Mail mit dem Zugangslink.\nDarüber gelangen Sie an dem Termin direkt zu dem ZNS-Online-Treff. \n  \nQuelle: ZNS-Akademie
URL:https://kopfsache-magazin.de/termin/zns-online-treffen-3/
ATTACH;FMTTYPE=image/jpeg:https://kopfsache-magazin.de/wp-content/uploads/2026/02/close-up-women-working-laptop-scaled.jpg
END:VEVENT
END:VCALENDAR