BEGIN:VCALENDAR
VERSION:2.0
PRODID:-//WordPress - ECPv6.15.20//NONSGML v1.0//EN
CALSCALE:GREGORIAN
METHOD:PUBLISH
X-WR-CALNAME:WordPress
X-ORIGINAL-URL:https://kopfsache-magazin.de
X-WR-CALDESC:Veranstaltungen für WordPress
REFRESH-INTERVAL;VALUE=DURATION:PT1H
X-Robots-Tag:noindex
X-PUBLISHED-TTL:PT1H
BEGIN:VTIMEZONE
TZID:UTC
BEGIN:STANDARD
TZOFFSETFROM:+0000
TZOFFSETTO:+0000
TZNAME:UTC
DTSTART:20250101T000000
END:STANDARD
END:VTIMEZONE
BEGIN:VEVENT
DTSTART;TZID=UTC:20260421T100000
DTEND;TZID=UTC:20260421T140000
DTSTAMP:20260419T151558
CREATED:20260310T114448Z
LAST-MODIFIED:20260310T114448Z
UID:37413-1776765600-1776780000@kopfsache-magazin.de
SUMMARY:Tagesseminar: Digital dabei\, Teil 1 (Sicher und selbstbestimmt im Netz)
DESCRIPTION:Das Internet kann Türen öffnen: zu Freundschaften\, Informationen und neuen Möglichkeiten im Alltag. Gleichzeitig tauchen oft Fragen auf: Was darf ich teilen? Wie mache ich mein Passwort sicher? Was tun\, wenn jemand gemein ist? In diesem Seminar bekommst Du leicht verständliche Tipps\, wie Du Dich im Netz sicher bewegst – Schritt für Schritt. Du lernst\, wie Du Deine Daten schützt\, Passwörter einfach und sicher erstellst und gelassen bleibst\, wenn etwas Unsicheres auftaucht. Außerdem schauen wir\, wie Du digitale Chancen nutzen kannst\, um in Kontakt zu bleiben und Deinen Alltag zu erleichtern. \nÜber ZNS Akademie \nDie ZNS – Akademie gGmbH hat zum Ziel\, die Versorgung\, Lebensqualität und Integration von Menschen mit Schädelhirntrauma zu verbessern. Dafür stellen Seminare\, Informationsveranstaltungen und Kongresse bedarfsorientiertes Wissen bereit für Betroffene\, Angehörige und Fachleute. \nJetzt anmelden!
URL:https://kopfsache-magazin.de/termin/tagesseminar-digital-dabei-teil-1-sicher-und-selbstbestimmt-im-netz/
LOCATION:Siegburg\, Siegburg\, 53721\, Germany
ATTACH;FMTTYPE=image/jpeg:https://kopfsache-magazin.de/wp-content/uploads/2026/03/woman-touching-smart-technology-holographic-interface-scaled.jpg
ORGANIZER;CN="ZNS Akademie":MAILTO:info@zns-akademie.de
END:VEVENT
BEGIN:VEVENT
DTSTART;VALUE=DATE:20260430
DTEND;VALUE=DATE:20260503
DTSTAMP:20260419T151558
CREATED:20260310T120035Z
LAST-MODIFIED:20260310T120035Z
UID:37420-1777507200-1777766399@kopfsache-magazin.de
SUMMARY:Was tut mir gut?
DESCRIPTION:Nach einem Schädelhirntrauma kann der Alltag anstrengend sein. In diesem Seminar findest Du heraus\, was Dir im Alltag guttut – neben Therapien und medizinischen Angeboten. Ziel ist es\, Dein Selbstbewusstsein zu stärken und neue Wege für Dein Wohlbefinden zu entdecken. \nDas erwartet Dich: \n\nDu spürst Deinen Bedürfnissen nach.\nDu lernst Deinen Körper besser kennen.\nDu übst Techniken\, die Dir helfen zu entspannen.\nDu kommst mit anderen ins Gespräch und erhältst Anregungen.\n\nJetzt anmelden!
URL:https://kopfsache-magazin.de/termin/was-tut-mir-gut-2/
LOCATION:Hennef\, Hennef\, 53773\, Germany
ATTACH;FMTTYPE=image/jpeg:https://kopfsache-magazin.de/wp-content/uploads/2026/03/full-shot-woman-jumping-outdoors-scaled.jpg
ORGANIZER;CN="ZNS Akademie":MAILTO:info@zns-akademie.de
END:VEVENT
END:VCALENDAR